BEGIN:VCALENDAR
VERSION:2.0
PRODID:-//Red Apple Coaching - ECPv6.15.20//NONSGML v1.0//EN
CALSCALE:GREGORIAN
METHOD:PUBLISH
X-WR-CALNAME:Red Apple Coaching
X-ORIGINAL-URL:https://redapplecoaching.ca
X-WR-CALDESC:Events for Red Apple Coaching
REFRESH-INTERVAL;VALUE=DURATION:PT1H
X-Robots-Tag:noindex
X-PUBLISHED-TTL:PT1H
BEGIN:VTIMEZONE
TZID:America/Toronto
BEGIN:DAYLIGHT
TZOFFSETFROM:-0500
TZOFFSETTO:-0400
TZNAME:EDT
DTSTART:20250309T070000
END:DAYLIGHT
BEGIN:STANDARD
TZOFFSETFROM:-0400
TZOFFSETTO:-0500
TZNAME:EST
DTSTART:20251102T060000
END:STANDARD
BEGIN:DAYLIGHT
TZOFFSETFROM:-0500
TZOFFSETTO:-0400
TZNAME:EDT
DTSTART:20260308T070000
END:DAYLIGHT
BEGIN:STANDARD
TZOFFSETFROM:-0400
TZOFFSETTO:-0500
TZNAME:EST
DTSTART:20261101T060000
END:STANDARD
BEGIN:DAYLIGHT
TZOFFSETFROM:-0500
TZOFFSETTO:-0400
TZNAME:EDT
DTSTART:20270314T070000
END:DAYLIGHT
BEGIN:STANDARD
TZOFFSETFROM:-0400
TZOFFSETTO:-0500
TZNAME:EST
DTSTART:20271107T060000
END:STANDARD
END:VTIMEZONE
BEGIN:VEVENT
DTSTART;TZID=America/Toronto:20260102T233000
DTEND;TZID=America/Toronto:20260102T233000
DTSTAMP:20260423T171402
CREATED:20251219T144109Z
LAST-MODIFIED:20251219T150628Z
UID:5570-1767396600-1767396600@redapplecoaching.ca
SUMMARY:🚀 2026 Time Systems Mastermind
DESCRIPTION:If 2026 is going to be different\, your time systems must be different. \nThis mastermind is for those who are ready to stop reacting and start running their year with clarity and control. \n🚀 2026 Time Systems Mastermind🗓 January 2⏰ 11:00 PM – 12:00 AM💻 Online \nCome ready to think bigger\, simplify smarter\, and design time that supports growth.
URL:https://redapplecoaching.ca/event/%f0%9f%9a%80-2026-time-systems-mastermind/
ATTACH;FMTTYPE=image/jpeg:https://redapplecoaching.ca/wp-content/uploads/2025/12/WhatsApp-Image-2025-12-17-at-16.46.15.jpeg
END:VEVENT
BEGIN:VEVENT
DTSTART;TZID=America/Toronto:20260108T100000
DTEND;TZID=America/Toronto:20260108T160000
DTSTAMP:20260423T171402
CREATED:20251219T150148Z
LAST-MODIFIED:20251219T150517Z
UID:5573-1767866400-1767888000@redapplecoaching.ca
SUMMARY:Forecast 2026: Where the Business Will Be
DESCRIPTION:Start 2026 with clarity\, conversation\, and community. \nJoin us for Bagels and Mastermind\, an in-person strategic discussion focused on what’s ahead—and how to position your business for the year to come. \n📌 Event: Bagels and Mastermind🎯 Topic: Forecast 2026: Where the Business Will Be🗓 January 8\, 2026⏰ 2:30 PM📍 8 Clothier Street East\, Kemptville \nCome for the bagels. Stay for the insights\, perspective\, and meaningful mastermind conversation around the future of the business.
URL:https://redapplecoaching.ca/event/forecast-2026-where-the-business-will-be/
ATTACH;FMTTYPE=image/jpeg:https://redapplecoaching.ca/wp-content/uploads/2025/12/WhatsApp-Image-2025-12-18-at-17.10.55.jpeg
END:VEVENT
BEGIN:VEVENT
DTSTART;TZID=America/Toronto:20260113T090000
DTEND;TZID=America/Toronto:20260113T160000
DTSTAMP:20260423T171402
CREATED:20251229T151229Z
LAST-MODIFIED:20251229T152016Z
UID:5583-1768294800-1768320000@redapplecoaching.ca
SUMMARY:Business Planning 2026 in Niagara!
DESCRIPTION:Business Planning 2026\nSet the tone\, direction\, and strategy for the year ahead at Business Planning 2026—a full-day live event focused on execution\, clarity\, and building a results-driven plan for 2026. \nThis interactive session will guide participants through defining priorities\, aligning goals\, and developing a practical business plan they can immediately implement. \n📅 Date: January 13\, 2026⏰ Time: 9:00 AM – 4:00 PM📍 Venue: Club Roma Inc.125 Vansickle Road\, St. Catharines\, Ontario \nRegister Here \nSave the date and get ready for a focused day of strategy\, planning\, and powerful takeaways for the year ahead.
URL:https://redapplecoaching.ca/event/business-planning-2026-in-niagara/
ATTACH;FMTTYPE=image/png:https://redapplecoaching.ca/wp-content/uploads/2025/12/1.png
END:VEVENT
BEGIN:VEVENT
DTSTART;TZID=America/Toronto:20260115T100000
DTEND;TZID=America/Toronto:20260115T140000
DTSTAMP:20260423T171402
CREATED:20260109T150435Z
LAST-MODIFIED:20260113T134231Z
UID:5629-1768471200-1768485600@redapplecoaching.ca
SUMMARY:Annual Kick Off 2026 - The Liz Bone Team
DESCRIPTION:Start the year with focus\, clarity\, and momentum at our Annual Kick Off—a live virtual session centered on lead generation and business growth. \nThis event will spotlight the 3 L’s of Lead Generation:\n• Listings• Leads• Leverage \n🗓 Date: January 15\, 2026⏰ Time: 10:00 AM – 1:45 PM💻 Location: Zoom \n🎤 Mary-Anne Gillespie will deliver a 20-minute focused session from 11:40 AM – 12:00 PM\, designed to provide practical strategies agents can apply immediately. \nThis kickoff is built to help you sharpen your approach to lead generation and set a strong foundation for 2026.
URL:https://redapplecoaching.ca/event/annual-kick-off-2026-the-liz-bone-team/
ATTACH;FMTTYPE=image/jpeg:https://redapplecoaching.ca/wp-content/uploads/2026/01/WhatsApp-Image-2026-01-12-at-18.11.49.jpeg
END:VEVENT
BEGIN:VEVENT
DTSTART;VALUE=DATE:20260123
DTEND;VALUE=DATE:20260124
DTSTAMP:20260423T171402
CREATED:20251229T180613Z
LAST-MODIFIED:20260114T104851Z
UID:5608-1769126400-1769212799@redapplecoaching.ca
SUMMARY:Kick off 2026
DESCRIPTION:We’re excited to announce Kick Off 2026 with Remo Valente Real Estate Brokerage. \n📅 January 23\, 2026 \nA powerful start to the year focused on alignment\, momentum\, and setting up 2026 for success. \nMore event details to follow.
URL:https://redapplecoaching.ca/event/kick-off-2026/
ATTACH;FMTTYPE=image/jpeg:https://redapplecoaching.ca/wp-content/uploads/2025/12/WhatsApp-Image-2026-01-12-at-18.10.13.jpeg
END:VEVENT
BEGIN:VEVENT
DTSTART;TZID=America/Toronto:20260128T073000
DTEND;TZID=America/Toronto:20260129T160000
DTSTAMP:20260423T171402
CREATED:20251229T162340Z
LAST-MODIFIED:20251229T170925Z
UID:5588-1769585400-1769702400@redapplecoaching.ca
SUMMARY:ARE YOU READY FOR BUZZ GREATNESS 2026?
DESCRIPTION:ARE YOU READY FOR BUZZ GREATNESS 2026?\nPresented by The Buzz Conference \nGet ready for two powerful days designed to inspire\, challenge\, and accelerate your success in 2026. Buzz Greatness 2026 brings together industry leaders\, innovators\, and top performers for learning\, networking\, and big ideas that move business forward. \n🗓 Dates: January 28–29\, 2026⏰ Two full days of programming📍 Location: Mississauga Convention Centre\, Mississauga\, Ontario \nWhat’s Included\n• Light continental breakfast• Lunch• Day 1 Post-Event Networking Hour• Meet the Sponsors & Exhibitors experience \nSchedule & Experience\nDoors open at 7:30 AM sharp each day. Start with high-energy networking\, an engaging Exhibitor Circle & Sponsor Lounge\, and a dynamic new photo booth experience. \nThe daily agenda is built to:\n• ignite fresh ideas• fuel strategic thinking• set the stage for a year of greatness \nFull agenda available at: www.thebuzzconference.com \nConference Details\n📅 January 287:30 AM – 4:00 PMPost-day Networking Event: 4:00 PM – 5:30 PMIncludes a complimentary drink and Canadian fareSponsored by CP LLP – Real Estate\, Business & Estate Litigators \n📅 January 297:30 AM – 4:00 PMConference concludes at 4:00 PM \n✔ FREE parking✔ Last session ends at 4:00 PM daily
URL:https://redapplecoaching.ca/event/are-you-ready-for-buzz-greatness-2026/
ATTACH;FMTTYPE=image/png:https://redapplecoaching.ca/wp-content/uploads/2025/12/BUZZ-GREATNESS-SPEAKERS.png
END:VEVENT
END:VCALENDAR