BEGIN:VCALENDAR
VERSION:2.0
PRODID:-//Red Apple Coaching - ECPv6.15.20//NONSGML v1.0//EN
CALSCALE:GREGORIAN
METHOD:PUBLISH
X-ORIGINAL-URL:https://redapplecoaching.ca
X-WR-CALDESC:Events for Red Apple Coaching
REFRESH-INTERVAL;VALUE=DURATION:PT1H
X-Robots-Tag:noindex
X-PUBLISHED-TTL:PT1H
BEGIN:VTIMEZONE
TZID:America/Toronto
BEGIN:DAYLIGHT
TZOFFSETFROM:-0500
TZOFFSETTO:-0400
TZNAME:EDT
DTSTART:20240310T070000
END:DAYLIGHT
BEGIN:STANDARD
TZOFFSETFROM:-0400
TZOFFSETTO:-0500
TZNAME:EST
DTSTART:20241103T060000
END:STANDARD
BEGIN:DAYLIGHT
TZOFFSETFROM:-0500
TZOFFSETTO:-0400
TZNAME:EDT
DTSTART:20250309T070000
END:DAYLIGHT
BEGIN:STANDARD
TZOFFSETFROM:-0400
TZOFFSETTO:-0500
TZNAME:EST
DTSTART:20251102T060000
END:STANDARD
BEGIN:DAYLIGHT
TZOFFSETFROM:-0500
TZOFFSETTO:-0400
TZNAME:EDT
DTSTART:20260308T070000
END:DAYLIGHT
BEGIN:STANDARD
TZOFFSETFROM:-0400
TZOFFSETTO:-0500
TZNAME:EST
DTSTART:20261101T060000
END:STANDARD
END:VTIMEZONE
BEGIN:VEVENT
DTSTART;TZID=America/Toronto:20250718T151500
DTEND;TZID=America/Toronto:20250718T161500
DTSTAMP:20260424T023438
CREATED:20250716T145935Z
LAST-MODIFIED:20250716T145935Z
UID:5475-1752851700-1752855300@redapplecoaching.ca
SUMMARY:🎧 PODCAST ALERT! : “Thriving vs. Surviving: Why Some Agents Win in Any Market”
DESCRIPTION:🎙️ Podcast Recording Coming Soon! \nMary-Anne will be joining Steve Tabrizi\, Broker Owner of Hallmark Remax\, for an exciting podcast episode:“Thriving vs. Surviving: Why Some Agents Win in Any Market” \nThey’ll dive into what makes certain agents rise above the rest—no matter what the market looks like. 💼🔥 \n📅 Recording on Friday\, July 18th | 3:15–4:15 PM EST📢 Stay tuned — we’ll be sharing the recording soon! \n#PodcastComingSoon #MaryAnneSpeaks #SteveTabrizi #ThrivingVsSurviving #RealEstateSuccess
URL:https://redapplecoaching.ca/event/%f0%9f%8e%a7-podcast-alert-thriving-vs-surviving-why-some-agents-win-in-any-market/
ATTACH;FMTTYPE=image/png:https://redapplecoaching.ca/wp-content/uploads/2025/07/Podcast-Template-1.png
END:VEVENT
END:VCALENDAR