BEGIN:VCALENDAR
VERSION:2.0
PRODID:-//Red Apple Coaching - ECPv6.15.20//NONSGML v1.0//EN
CALSCALE:GREGORIAN
METHOD:PUBLISH
X-ORIGINAL-URL:https://redapplecoaching.ca
X-WR-CALDESC:Events for Red Apple Coaching
REFRESH-INTERVAL;VALUE=DURATION:PT1H
X-Robots-Tag:noindex
X-PUBLISHED-TTL:PT1H
BEGIN:VTIMEZONE
TZID:America/Toronto
BEGIN:DAYLIGHT
TZOFFSETFROM:-0500
TZOFFSETTO:-0400
TZNAME:EDT
DTSTART:20230312T070000
END:DAYLIGHT
BEGIN:STANDARD
TZOFFSETFROM:-0400
TZOFFSETTO:-0500
TZNAME:EST
DTSTART:20231105T060000
END:STANDARD
BEGIN:DAYLIGHT
TZOFFSETFROM:-0500
TZOFFSETTO:-0400
TZNAME:EDT
DTSTART:20240310T070000
END:DAYLIGHT
BEGIN:STANDARD
TZOFFSETFROM:-0400
TZOFFSETTO:-0500
TZNAME:EST
DTSTART:20241103T060000
END:STANDARD
BEGIN:DAYLIGHT
TZOFFSETFROM:-0500
TZOFFSETTO:-0400
TZNAME:EDT
DTSTART:20250309T070000
END:DAYLIGHT
BEGIN:STANDARD
TZOFFSETFROM:-0400
TZOFFSETTO:-0500
TZNAME:EST
DTSTART:20251102T060000
END:STANDARD
END:VTIMEZONE
BEGIN:VTIMEZONE
TZID:UTC
BEGIN:STANDARD
TZOFFSETFROM:+0000
TZOFFSETTO:+0000
TZNAME:UTC
DTSTART:20230101T000000
END:STANDARD
END:VTIMEZONE
BEGIN:VEVENT
DTSTART;VALUE=DATE:20241009
DTEND;VALUE=DATE:20241010
DTSTAMP:20260424T183402
CREATED:20240912T140013Z
LAST-MODIFIED:20240920T150910Z
UID:3682-1728432000-1728518399@redapplecoaching.ca
SUMMARY:Sales Meeting with RE/MAX Professionals
DESCRIPTION:Beyond excited to be presenting for Remax Professionals Inc. on 𝐒𝐭𝐫𝐚𝐭𝐞𝐠𝐢𝐜 𝐄𝐱𝐜𝐞𝐥𝐥𝐞𝐧𝐜𝐞: 𝐔𝐧𝐥𝐨𝐜𝐤𝐢𝐧𝐠 𝐭𝐡𝐞 𝐍𝐞𝐱𝐭 𝐋𝐞𝐯𝐞𝐥 𝐨𝐟 𝐑𝐞𝐚𝐥 𝐄𝐬𝐭𝐚𝐭𝐞 𝐒𝐚𝐥𝐞𝐬!  Get ready to level up your game and crush your goals! “\n\n“So excited to be sharing at Remax Professionals Inc.! Let’s dive into 𝐒𝐭𝐫𝐚𝐭𝐞𝐠𝐢𝐜 𝐄𝐱𝐜𝐞𝐥𝐥𝐞𝐧𝐜𝐞: 𝐔𝐧𝐥𝐨𝐜𝐤𝐢𝐧𝐠 𝐭𝐡𝐞 𝐍𝐞𝐱𝐭 𝐋𝐞𝐯𝐞𝐥 𝐨𝐟 𝐑𝐞𝐚𝐥 𝐄𝐬𝐭𝐚𝐭𝐞 𝐒𝐚𝐥𝐞𝐬 together!  Who’s ready to take their sales to new heights? “\n\n“Can’t wait to present for Remax Professionals Inc.! I’ll be talking about 𝐒𝐭𝐫𝐚𝐭𝐞𝐠𝐢𝐜 𝐄𝐱𝐜𝐞𝐥𝐥𝐞𝐧𝐜𝐞: 𝐔𝐧𝐥𝐨𝐜𝐤𝐢𝐧𝐠 𝐭𝐡𝐞 𝐍𝐞𝐱𝐭 𝐋𝐞𝐯𝐞𝐥 𝐨𝐟 𝐑𝐞𝐚𝐥 𝐄𝐬𝐭𝐚𝐭𝐞 𝐒𝐚𝐥𝐞𝐬!  Let’s make it happen! “\n\n“ Honoured to be speaking for Remax Professionals Inc. on 𝐒𝐭𝐫𝐚𝐭𝐞𝐠𝐢𝐜 𝐄𝐱𝐜𝐞𝐥𝐥𝐞𝐧𝐜𝐞!  We’ll explore strategies to elevate your real estate sales and maximize results!  Who’s ready for the next level? “
URL:https://redapplecoaching.ca/event/sales-meeting-with-re-max-professionals/
ATTACH;FMTTYPE=image/png:https://redapplecoaching.ca/wp-content/uploads/2024/09/RACC-15.png
END:VEVENT
BEGIN:VEVENT
DTSTART;TZID=UTC:20241011T080000
DTEND;TZID=UTC:20241101T170000
DTSTAMP:20260424T183402
CREATED:20240610T204203Z
LAST-MODIFIED:20241015T130009Z
UID:3559-1728633600-1730480400@redapplecoaching.ca
SUMMARY:[ SOLD OUT] Gamechanger Bootcamp
DESCRIPTION:Are you ready to push the boundaries and excel in YOUR Real Estate Business? \n\nWe are so excited to introduce The Gamechanger Bootcamp – a transformative 4-week intensive lead generation program designed exclusively for realtors ready to break free from the ordinary and embrace extraordinary success! \n\n Mark your calendars: Our next batch for the Gamechanger Bootcamp will start on September\, embark on a journey that will redefine your approach to real estate.\n\n\nHere’s a glimpse of what awaits you: \n Session 1: Unleash Your Database Abilities \n\n Session 2: Million Dollar Open Houses\n Session 3: Lead Gen through Social Platforms\n Session 4: Entrepreneurial Time System – Get Your Life Back\n\nYour breakthrough awaits – are you ready to seize it? \n\nJoin the waitlist to join our next The Gamechanger Bootcamp:\nhttps://www.yourgamechanger.ca/accountability-bootcamp
URL:https://redapplecoaching.ca/event/gamechanger-fall-bootcamp/
ATTACH;FMTTYPE=image/jpeg:https://redapplecoaching.ca/wp-content/uploads/2024/06/RAC-POSTS.jpg
END:VEVENT
BEGIN:VEVENT
DTSTART;TZID=America/Toronto:20241015T090000
DTEND;TZID=America/Toronto:20241015T140000
DTSTAMP:20260424T183402
CREATED:20240920T151226Z
LAST-MODIFIED:20240920T151226Z
UID:3694-1728982800-1729000800@redapplecoaching.ca
SUMMARY:RLP ASSOCIATES IN PERSON SESSION
DESCRIPTION:Ready to kick your real estate career into high gear?\n\nJoin me on October 15th\, 2024\, for 𝐒𝐭𝐫𝐚𝐭𝐞𝐠𝐢𝐜 𝐄𝐱𝐜𝐞𝐥𝐥𝐞𝐧𝐜𝐞: 𝐔𝐧𝐥𝐨𝐜𝐤𝐢𝐧𝐠 𝐭𝐡𝐞 𝐍𝐞𝐱𝐭 𝐋𝐞𝐯𝐞𝐥 𝐨𝐟 𝐑𝐞𝐚𝐥 𝐄𝐬𝐭𝐚𝐭𝐞 𝐒𝐚𝐥𝐞𝐬 with Royal LePage Associates!  I’ll be sharing insights that will have you saying\, “Why didn’t I do this sooner?” Plus\, expect a day packed with fun and networking!\n\n Jump in and register now: [Registration Link](https://www.eventbrite.com/e/rlp-associates-quarterly-meeting-tickets-1021729649887)\n\n#GameChanger #RealEstateAdventures #RoyalLePage #RealEstateSuccess #LevelUp #RealEstateCoach #RealEstateCoaching
URL:https://redapplecoaching.ca/event/rlp-associates-in-person-session/
ATTACH;FMTTYPE=image/png:https://redapplecoaching.ca/wp-content/uploads/2024/09/RACC-15-1.png
END:VEVENT
BEGIN:VEVENT
DTSTART;VALUE=DATE:20241023
DTEND;VALUE=DATE:20241024
DTSTAMP:20260424T183402
CREATED:20240726T210413Z
LAST-MODIFIED:20240726T210413Z
UID:3649-1729641600-1729727999@redapplecoaching.ca
SUMMARY:TRREB Youth Professional Network Event
DESCRIPTION:📅 Join Us! 📅 \nMark your calendars for the TRREB Youth Professional Network Event on October 23\, 2024! 🎉 \nTopic: “Beyond The Sale” – Elevate your real estate career with growth-oriented strategies and insights from industry top performers. Learn actionable tactics\, motivational strategies\, and tools for long-term success. \n🕘 Arrival at 9 AM\, speaking shortly after 📍 1400 Don Mills Road\, Toronto \nDon’t miss this opportunity to transform your professional journey! \n#TRREBYPNetwork #BeyondTheSale #RealEstateSuccess #ProfessionalGrowth #TorontoEvents
URL:https://redapplecoaching.ca/event/trreb-youth-professional-network-event/
ATTACH;FMTTYPE=image/png:https://redapplecoaching.ca/wp-content/uploads/2024/07/RACC-14.png
END:VEVENT
BEGIN:VEVENT
DTSTART;TZID=America/Toronto:20241029T100000
DTEND;TZID=America/Toronto:20241029T120000
DTSTAMP:20260424T183402
CREATED:20240823T131602Z
LAST-MODIFIED:20240823T131602Z
UID:3672-1730196000-1730203200@redapplecoaching.ca
SUMMARY:REMAX CROSSROADS IN PERSON SESSION
DESCRIPTION:📅 Don’t Miss Out! 📅 \nJoin us on October 29th\, 2024\, from 10 AM to 12 PM for High-Impact Sales Strategies at The Academy in Markham! \nLevel up your sales game with actionable insights and strategies designed to drive success. \n📍 Location: The Academy (#220 – 8901 Woodbine Ave.\, Markham) \nSee you there! \n#SalesSuccess #HighImpactStrategies #MarkhamEvents #ProfessionalGrowth
URL:https://redapplecoaching.ca/event/remax-crossroads-in-person-session/
ATTACH;FMTTYPE=image/png:https://redapplecoaching.ca/wp-content/uploads/2024/08/RACC-1.png
END:VEVENT
END:VCALENDAR