BEGIN:VCALENDAR
VERSION:2.0
PRODID:-//Red Apple Coaching - ECPv6.15.20//NONSGML v1.0//EN
CALSCALE:GREGORIAN
METHOD:PUBLISH
X-WR-CALNAME:Red Apple Coaching
X-ORIGINAL-URL:https://redapplecoaching.ca
X-WR-CALDESC:Events for Red Apple Coaching
REFRESH-INTERVAL;VALUE=DURATION:PT1H
X-Robots-Tag:noindex
X-PUBLISHED-TTL:PT1H
BEGIN:VTIMEZONE
TZID:UTC
BEGIN:STANDARD
TZOFFSETFROM:+0000
TZOFFSETTO:+0000
TZNAME:UTC
DTSTART:20180101T000000
END:STANDARD
END:VTIMEZONE
BEGIN:VEVENT
DTSTART;TZID=UTC:20210419T123000
DTEND;TZID=UTC:20210419T130000
DTSTAMP:20260425T123441
CREATED:20210415T220303Z
LAST-MODIFIED:20210415T233522Z
UID:1168-1618835400-1618837200@redapplecoaching.ca
SUMMARY:Game Changer Facebook Live: Why is Conversion important in your sales business
DESCRIPTION:Topic: Why is Conversion important in your sales business \nJoin Mary-Anne Gillespie for 30 minutes of Game Changer Facebook Live\, weekly on Mondays at 12:30 pm ET \nHappening at: https://www.facebook.com/redapplecoaching
URL:https://redapplecoaching.ca/event/facebook-live-game-changer/
LOCATION:Red Apple Coaching Facebook Page\, Red Apple Coaching Ltd.\, Ottawa\, Ontario\, K1E 1H4\, Canada
CATEGORIES:Game Changer Facebook Live
ATTACH;FMTTYPE=image/png:https://redapplecoaching.ca/wp-content/uploads/2020/10/Game-Changer.png
END:VEVENT
BEGIN:VEVENT
DTSTART;TZID=UTC:20210419T120000
DTEND;TZID=UTC:20210419T123000
DTSTAMP:20260425T123441
CREATED:20210415T221710Z
LAST-MODIFIED:20210415T233531Z
UID:1177-1618833600-1618835400@redapplecoaching.ca
SUMMARY:Scripting Tribe Training: Farming Scripts to Build Your
DESCRIPTION:Topic: Farming Scripts to Build Your \nDetails and Sign up: https://www.yourgamechanger.ca/scripting-tribe \nAll the scripts you need for your real estate business\nJoin us every Monday at 12PM EST for 30 minutes of scripts! \nAre you ready to take the next step and invest in yourself? Start now\, and become a member of The Scripting Tribe.
URL:https://redapplecoaching.ca/event/scripting-tribe-training/
LOCATION:Scripting Tribe\, Conference Line
CATEGORIES:Scripting Tribe
ATTACH;FMTTYPE=image/png:https://redapplecoaching.ca/wp-content/uploads/2020/11/Scripting-Tribe.png
ORGANIZER;CN="Red Apple Coaching and Consulting":MAILTO:admin@redapplecoaching.ca
END:VEVENT
BEGIN:VEVENT
DTSTART;TZID=UTC:20210331T080000
DTEND;TZID=UTC:20210402T170000
DTSTAMP:20260425T123441
CREATED:20210415T232403Z
LAST-MODIFIED:20210416T000247Z
UID:1185-1617177600-1617382800@redapplecoaching.ca
SUMMARY:Women in Real Estate Summit
DESCRIPTION:Virtual summit brings together top female industry earners and professionals from business development\, marketing\, branding\, social media\, and coaching. \nDetails & Register: https://resilient-series.mykajabi.com/resilient-series \n3 Day Live Virtual Event March 31st\, April 1st & 2nd – 9am MT – 5pm MT daily \nDay 1: Winning The Listing: Nothing is more important in the business of Real Estate than having Listings \nSpeakers: Brittany Picolo-Ramos\, Kim Hayden\, Collette McDonald\, Kristen Fenrick\, Christina Swyers \nDay 2: Securing and Working with Buyers: There’s a lot more to working with Buyers these days \nSpeakers: Kat Drerup\, Michelle Bailey\, Krista Mashore\, Lindsay White\, Mary-Anne Gillespie \nDay 3: Building your Business: From how to Build a Team to how to how go to a 7 Figure Year! \nSpeakers:Nicole Briggs\, Liz & Laura Alamery\, Karen Cooper\, Kim Hayden
URL:https://redapplecoaching.ca/event/women-in-real-estate-summit/
LOCATION:Real Resilient Tour
CATEGORIES:Speaking Engagement
ATTACH;FMTTYPE=image/png:https://redapplecoaching.ca/wp-content/uploads/2021/04/9_05am-CST-2.png
END:VEVENT
BEGIN:VEVENT
DTSTART;TZID=UTC:20201015T100000
DTEND;TZID=UTC:20201015T120000
DTSTAMP:20260425T123441
CREATED:20210416T000204Z
LAST-MODIFIED:20210416T005813Z
UID:1210-1602756000-1602763200@redapplecoaching.ca
SUMMARY:The REal Deal with Ryan Serhant
DESCRIPTION:Host: RE/MAX Niagara & Escarpment\, Mission 35 Mortgage. \nSpeakers: Ryan Serhant\, Mary-Anne Gillespie\, and more \nDetails: https://www.eventbrite.ca/e/the-real-deal-with-ryan-serhant-tickets-118208688369
URL:https://redapplecoaching.ca/event/the-real-deal-with-ryan-serhant/
LOCATION:Ontario
CATEGORIES:Speaking Engagement
ATTACH;FMTTYPE=image/jpeg:https://redapplecoaching.ca/wp-content/uploads/2021/04/https-_cdn.evbuc_.com_images_112195001_314942088733_1_original.20200921-195025.jpg
END:VEVENT
BEGIN:VEVENT
DTSTART;TZID=UTC:20200707T190000
DTEND;TZID=UTC:20200707T200000
DTSTAMP:20260425T123441
CREATED:20210416T003711Z
LAST-MODIFIED:20210416T003711Z
UID:1234-1594148400-1594152000@redapplecoaching.ca
SUMMARY:Stop Creating and Start Doing
DESCRIPTION:Guest Speaker: Mary-Anne Gillespie\n\nDate  & Time: July 7\, 2020. 7 PM ET\n\nJoin WinCity Investors Club private FB Group here for full access to the live event: https://www.facebook.com/groups/WinCityInvestorsClub/
URL:https://redapplecoaching.ca/event/stop-creating-and-start-doing/
LOCATION:Ontario
CATEGORIES:Speaking Engagement
ATTACH;FMTTYPE=image/png:https://redapplecoaching.ca/wp-content/uploads/2021/04/Savios-Tuesday-Talk.png
END:VEVENT
BEGIN:VEVENT
DTSTART;VALUE=DATE:20200707
DTEND;VALUE=DATE:20200708
DTSTAMP:20260425T123441
CREATED:20210416T004019Z
LAST-MODIFIED:20210416T004019Z
UID:1237-1594080000-1594166399@redapplecoaching.ca
SUMMARY:Why your next 60 days are critical
DESCRIPTION:Host: RE/MAX Hallmark Chay Realty \nGuest speaker: Mary-Anne Gillepsie
URL:https://redapplecoaching.ca/event/why-your-next-60-days-are-critical/
LOCATION:Ontario
CATEGORIES:Speaking Engagement
END:VEVENT
BEGIN:VEVENT
DTSTART;TZID=UTC:20200513T143000
DTEND;TZID=UTC:20200513T153000
DTSTAMP:20260425T123441
CREATED:20210416T000630Z
LAST-MODIFIED:20210416T000630Z
UID:1213-1589380200-1589383800@redapplecoaching.ca
SUMMARY:eXp Shareholder Summit 2020 – Ask a Coach Mastermind
DESCRIPTION:Host: Hank Avink. \nPanelists: Mary-Anne Gillespie\, Jake Dixon\, Shon Kokoszka \nDetails: http://www.redapplecoaching.ca/exp-shareholder-summit-2020/
URL:https://redapplecoaching.ca/event/exp-shareholder-summit-2020-ask-a-coach-mastermind/
LOCATION:Ontario
CATEGORIES:Speaking Engagement
ATTACH;FMTTYPE=image/png:https://redapplecoaching.ca/wp-content/uploads/2021/04/Ask-a-Coach-Mastermind-2.png
END:VEVENT
BEGIN:VEVENT
DTSTART;TZID=UTC:20200512T110000
DTEND;TZID=UTC:20200513T150000
DTSTAMP:20260425T123441
CREATED:20210416T001301Z
LAST-MODIFIED:20210416T001301Z
UID:1216-1589281200-1589382000@redapplecoaching.ca
SUMMARY:Virtual Real Estate Growth Summit
DESCRIPTION:Speaker: Mary-Anne Gillespie\, Mark Bowden\, Nick Baldwin\, and many more. \nDetails: http://www.redapplecoaching.ca/virtual-real-estate-growth-summit-2020/ \nMary-Anne is excited to be speaking at The Virtual Real Estate Growth Summit brought to you by KWYP Canada. \nTuesday\, May 12th and Wednesday\, May 13th from 11:00 am to 3:00 pm. \nShe’ll be discussing the 5 characteristics of Leaders who Persevere and ways you can discover how to use your own challenges as fuel for your dreams! Courage. Conscientiousness: Achievement Oriented vs. Dependable. Long-Term Goals and Endurance: Follow Through. Resilience: Optimism\, Confidence\, and Creativity. Excellence vs. Perfection. \nWhether you’re in real estate or not\, you will learn lots from this. If you are in real estate\, there’s no excuse\, you should be there. And best of all\, we are donating the proceeds on your behalf to three hugely impactful charities. \nRegister now at: https://bit.ly/KWYPVREGS2020 \nProceeds of this amazing event will be donated to https://kiva.org\, https://kwkc.org/ and https://kwkc.org/ \nhttp://www.redapplecoaching.ca/wp-content/uploads/2020/05/mag-video.mp4
URL:https://redapplecoaching.ca/event/virtual-real-estate-growth-summit/
LOCATION:Ontario
CATEGORIES:Speaking Engagement
ATTACH;FMTTYPE=image/jpeg:https://redapplecoaching.ca/wp-content/uploads/2021/04/0.jpg
END:VEVENT
BEGIN:VEVENT
DTSTART;TZID=UTC:20200229T090000
DTEND;TZID=UTC:20200229T180000
DTSTAMP:20260425T123441
CREATED:20210416T001620Z
LAST-MODIFIED:20210416T005757Z
UID:1220-1582966800-1582999200@redapplecoaching.ca
SUMMARY:2020 Ottawa Real Estate Investor Conference (OREIC)
DESCRIPTION:Date & Time: Saturday\, February 29th\, 2020. 9:00 am – 6:00 pm. \n\nLocation: Ottawa Conference & Event Center\n\nSpeakers: Arlene Dickinson\, Mary-Anne Gillespie\, and Others\n\nMore info. & Ticket details: oreic.ca\n\n\n\nOREIC’s unique offering of speakers have no hidden agenda. These are REAL PEOPLE who are taking REAL ACTION and are willing to share their hard-earned knowledge and expertise with you. \n\nTake advantage of the opportunity to speak one on one with industry experts and elected officials.\nThe great lineup of speakers will cover hot topics like financing investment properties\, landlord advocacy\, pre-construction condos\, Q&A with elected officials\, portfolio diversification\, and much more! See the Conference Speakers page for the list of speakers and topics.\nNetworking and more networking!\nOur sponsors provide top notch products and services to real estate investors and landlords so be sure to visit their exhibitor booths.
URL:https://redapplecoaching.ca/event/2020-ottawa-real-estate-investor-conference-oreic/
LOCATION:Ontario
CATEGORIES:Speaking Engagement
ATTACH;FMTTYPE=image/jpeg:https://redapplecoaching.ca/wp-content/uploads/2020/01/cover-picture.jpg
END:VEVENT
BEGIN:VEVENT
DTSTART;TZID=UTC:20200121T140000
DTEND;TZID=UTC:20200121T170000
DTSTAMP:20260425T123441
CREATED:20210416T001829Z
LAST-MODIFIED:20210416T001829Z
UID:1222-1579615200-1579626000@redapplecoaching.ca
SUMMARY:2020 Vision Party
DESCRIPTION:Date & Time: January 21st\, 2020. 2pm-5pm \nLocation: 120 Interchange Way\, Concord ON \nWealth Building Panelists: Andre Chin\, Sir Colin Campbell\, Cintia de Aguiar\, Sandy Mackay \nGuest Speaker: Mary-Anne Gillespie\, Dion Beg
URL:https://redapplecoaching.ca/event/2020-vision-party/
LOCATION:Ontario
CATEGORIES:Speaking Engagement
ATTACH;FMTTYPE=image/jpeg:https://redapplecoaching.ca/wp-content/uploads/2020/01/KWYP-VIsi.jpg
END:VEVENT
BEGIN:VEVENT
DTSTART;VALUE=DATE:20191130
DTEND;VALUE=DATE:20191201
DTSTAMP:20260425T123441
CREATED:20210416T002034Z
LAST-MODIFIED:20210416T002034Z
UID:1224-1575072000-1575158399@redapplecoaching.ca
SUMMARY:Goal Setting and Explode Your Business in 2020
DESCRIPTION:Whilst you grow your real estate business and your side gig becomes your main gig\, you might ask yourself – “Where am I going with this?”\, “Do I want 5\, 10\, 50 property’s?”\, “What are my goals?” or if you are already a full time investor questions like “how can I explode my business?”\, “whats next?” \, “I’m not sure where I’m going” begins to creep in your head. \nThese questions and any more you have will be answered at our last event of 2019! \nMARY-ANNE Gillespie will be the guest educator of this event. She will take us through the importance of Goal setting\, and why you can achieve anything you want – if you set your mind to it. \nMore details and ticket HERE!
URL:https://redapplecoaching.ca/event/goal-setting-and-explode-your-business-in-2020/
LOCATION:Ontario
CATEGORIES:Speaking Engagement
ATTACH;FMTTYPE=image/jpeg:https://redapplecoaching.ca/wp-content/uploads/2019/11/unnamed.jpg
END:VEVENT
BEGIN:VEVENT
DTSTART;TZID=UTC:20191114T100000
DTEND;TZID=UTC:20191114T150000
DTSTAMP:20260425T123441
CREATED:20210416T002345Z
LAST-MODIFIED:20210416T002345Z
UID:1226-1573725600-1573743600@redapplecoaching.ca
SUMMARY:Welcome to an Extraordinary Brand
DESCRIPTION:Join them on November 14th to engage with Sotheby’s brand leadership and explore the power of Sotheby’s International Realty network with affiliates from your region! \nMore details and Register HERE!\n\nKeynote Speaker: Mary-Anne Gillespie.\n\n\nEvent Details:\nThursday\, November 14th\nStarts promptly at 10am and ends at 3pm \nLocation:\nDuxbury Bay Maritime School\n457 Washington St\, Duxbury\, MA 02332
URL:https://redapplecoaching.ca/event/welcome-to-an-extraordinary-brand/
LOCATION:Ontario
CATEGORIES:Speaking Engagement
ATTACH;FMTTYPE=image/png:https://redapplecoaching.ca/wp-content/uploads/2019/10/Sotheby-Nov-14.png
END:VEVENT
BEGIN:VEVENT
DTSTART;TZID=UTC:20191109T093000
DTEND;TZID=UTC:20191109T170000
DTSTAMP:20260425T123441
CREATED:20210416T002824Z
LAST-MODIFIED:20210416T005806Z
UID:1228-1573291800-1573318800@redapplecoaching.ca
SUMMARY:Wealth Hacker Conference
DESCRIPTION:AN EVENT FOR MOTIVATED ENTREPRENEURS AND INVESTORS LOOKING TO BUILD WEALTH AND ACHIEVE MASSIVE SUCCESS IN ALL AREAS OF THEIR LIFE. \nSpeakers: Grant Cardone\, Mary-Anne Gillespie\, and more. \n\nLocation: The Toronto Congress Centre – North Building\, 1020 Martin Grove Rd\, Etobicoke\, ON \nDate & Time: Saturday\, 9 November 2019\, 9:30 am – 5:00 PM EST \nTicket is running out quickly. Get yours NOW! — WEALTHHACKER.CA
URL:https://redapplecoaching.ca/event/wealth-hacker-conference/
LOCATION:Ontario
CATEGORIES:Speaking Engagement
ATTACH;FMTTYPE=image/png:https://redapplecoaching.ca/wp-content/uploads/2019/08/Wealth-Hacker-01-01.png
END:VEVENT
BEGIN:VEVENT
DTSTART;TZID=UTC:20190910T143000
DTEND;TZID=UTC:20190910T153000
DTSTAMP:20260425T123441
CREATED:20210416T003204Z
LAST-MODIFIED:20210416T003204Z
UID:1230-1568125800-1568129400@redapplecoaching.ca
SUMMARY:The Not So Black & White Real Estate Podcast
DESCRIPTION:WHAT TOP BUSINESS COACHES SAY TO THEIR TOP CLIENTS \nHost: Gary and Colin \nSpecial Guest: Mary-Anne Gillespie \nListen to the Podcast HERE!
URL:https://redapplecoaching.ca/event/the-not-so-black-white-real-estate-podcast/
LOCATION:Ontario
CATEGORIES:Podcast
ATTACH;FMTTYPE=image/png:https://redapplecoaching.ca/wp-content/uploads/2019/09/The-Real-Estate-Podcast-1024x576.png
END:VEVENT
BEGIN:VEVENT
DTSTART;TZID=UTC:20190820T183000
DTEND;TZID=UTC:20190820T190000
DTSTAMP:20260425T123441
CREATED:20210416T003421Z
LAST-MODIFIED:20210416T003421Z
UID:1232-1566325800-1566327600@redapplecoaching.ca
SUMMARY:Finding Ironwoman
DESCRIPTION:Date & Time: Tuesday\, August 20\, 2019 @ 6.30 PM \nLocation: Running Room\, Orleans\, ON \n“Journey of Finding the mindset to overcome anything” \nSpeaker: Mary-Anne Gillespie
URL:https://redapplecoaching.ca/event/finding-ironwoman/
LOCATION:Ontario
CATEGORIES:Speaking Engagement
ATTACH;FMTTYPE=image/jpeg:https://redapplecoaching.ca/wp-content/uploads/2019/08/finding-ironwoman.jpg
END:VEVENT
END:VCALENDAR