BEGIN:VCALENDAR
VERSION:2.0
PRODID:-//Red Apple Coaching - ECPv6.15.20//NONSGML v1.0//EN
CALSCALE:GREGORIAN
METHOD:PUBLISH
X-ORIGINAL-URL:https://redapplecoaching.ca
X-WR-CALDESC:Events for Red Apple Coaching
REFRESH-INTERVAL;VALUE=DURATION:PT1H
X-Robots-Tag:noindex
X-PUBLISHED-TTL:PT1H
BEGIN:VTIMEZONE
TZID:UTC
BEGIN:STANDARD
TZOFFSETFROM:+0000
TZOFFSETTO:+0000
TZNAME:UTC
DTSTART:20220101T000000
END:STANDARD
END:VTIMEZONE
BEGIN:VEVENT
DTSTART;TZID=UTC:20231201T110000
DTEND;TZID=UTC:20231208T140000
DTSTAMP:20260425T223115
CREATED:20230919T081001Z
LAST-MODIFIED:20231128T091817Z
UID:2662-1701428400-1702044000@redapplecoaching.ca
SUMMARY:Business Planning 2024:LIVE ONLINE
DESCRIPTION:
URL:https://redapplecoaching.ca/event/business-planning-2024live/
LOCATION:Zoom
CATEGORIES:Webinar
ATTACH;FMTTYPE=image/png:https://redapplecoaching.ca/wp-content/uploads/2023/09/about-me-5-2.png
ORGANIZER;CN="Red Apple Coaching and Consulting":MAILTO:admin@redapplecoaching.ca
END:VEVENT
END:VCALENDAR