BEGIN:VCALENDAR
VERSION:2.0
PRODID:-//Red Apple Coaching - ECPv6.15.20//NONSGML v1.0//EN
CALSCALE:GREGORIAN
METHOD:PUBLISH
X-ORIGINAL-URL:https://redapplecoaching.ca
X-WR-CALDESC:Events for Red Apple Coaching
REFRESH-INTERVAL;VALUE=DURATION:PT1H
X-Robots-Tag:noindex
X-PUBLISHED-TTL:PT1H
BEGIN:VTIMEZONE
TZID:UTC
BEGIN:STANDARD
TZOFFSETFROM:+0000
TZOFFSETTO:+0000
TZNAME:UTC
DTSTART:20200101T000000
END:STANDARD
END:VTIMEZONE
BEGIN:VEVENT
DTSTART;TZID=UTC:20210830T120000
DTEND;TZID=UTC:20210830T123000
DTSTAMP:20260424T040745
CREATED:20210726T232203Z
LAST-MODIFIED:20210825T195749Z
UID:1402-1630324800-1630326600@redapplecoaching.ca
SUMMARY:Scripting Tribe Training: Closing Scripts Open House
DESCRIPTION:Topic: Closing scripts Open House \nDetails and Sign up: https://www.yourgamechanger.ca/scripting-tribe \nAll the scripts you need for your real estate business\nJoin us every Monday at 12PM EST for 30 minutes of scripts! \nAre you ready to take the next step and invest in yourself? Start now\, and become a member of The Scripting Tribe.
URL:https://redapplecoaching.ca/event/scripting-tribe-training-pre-open-house-scripts/
LOCATION:Scripting Tribe\, Conference Line
CATEGORIES:Scripting Tribe
ATTACH;FMTTYPE=image/png:https://redapplecoaching.ca/wp-content/uploads/2020/11/Scripting-Tribe.png
ORGANIZER;CN="Red Apple Coaching and Consulting":MAILTO:admin@redapplecoaching.ca
END:VEVENT
BEGIN:VEVENT
DTSTART;TZID=UTC:20210823T120000
DTEND;TZID=UTC:20210823T123000
DTSTAMP:20260424T040745
CREATED:20210726T232359Z
LAST-MODIFIED:20210726T232359Z
UID:1405-1629720000-1629721800@redapplecoaching.ca
SUMMARY:Scripting Tribe Training: Pre Open House Scripts
DESCRIPTION:Topic: Pre Open House Scripts \nDetails and Sign up: https://www.yourgamechanger.ca/scripting-tribe \nAll the scripts you need for your real estate business\nJoin us every Monday at 12PM EST for 30 minutes of scripts! \nAre you ready to take the next step and invest in yourself? Start now\, and become a member of The Scripting Tribe.
URL:https://redapplecoaching.ca/event/scripting-tribe-training-pre-open-house-scripts-2/
LOCATION:Scripting Tribe\, Conference Line
CATEGORIES:Scripting Tribe
ATTACH;FMTTYPE=image/png:https://redapplecoaching.ca/wp-content/uploads/2020/11/Scripting-Tribe.png
ORGANIZER;CN="Red Apple Coaching and Consulting":MAILTO:admin@redapplecoaching.ca
END:VEVENT
BEGIN:VEVENT
DTSTART;TZID=UTC:20210816T120000
DTEND;TZID=UTC:20210816T123000
DTSTAMP:20260424T040745
CREATED:20210726T232119Z
LAST-MODIFIED:20210726T232119Z
UID:1400-1629115200-1629117000@redapplecoaching.ca
SUMMARY:Scripting Tribe Training: FORD Scripting
DESCRIPTION:Topic: FORD Scripting \nDetails and Sign up: https://www.yourgamechanger.ca/scripting-tribe \nAll the scripts you need for your real estate business\nJoin us every Monday at 12PM EST for 30 minutes of scripts! \nAre you ready to take the next step and invest in yourself? Start now\, and become a member of The Scripting Tribe.
URL:https://redapplecoaching.ca/event/scripting-tribe-training-ford-scripting/
LOCATION:Scripting Tribe\, Conference Line
CATEGORIES:Scripting Tribe
ATTACH;FMTTYPE=image/png:https://redapplecoaching.ca/wp-content/uploads/2020/11/Scripting-Tribe.png
ORGANIZER;CN="Red Apple Coaching and Consulting":MAILTO:admin@redapplecoaching.ca
END:VEVENT
BEGIN:VEVENT
DTSTART;TZID=UTC:20210809T120000
DTEND;TZID=UTC:20210809T123000
DTSTAMP:20260424T040745
CREATED:20210726T232030Z
LAST-MODIFIED:20210726T232030Z
UID:1398-1628510400-1628512200@redapplecoaching.ca
SUMMARY:Scripting Tribe Training: Tie Down Questions
DESCRIPTION:Topic: Tie Down Questions \nDetails and Sign up: https://www.yourgamechanger.ca/scripting-tribe \nAll the scripts you need for your real estate business\nJoin us every Monday at 12PM EST for 30 minutes of scripts! \nAre you ready to take the next step and invest in yourself? Start now\, and become a member of The Scripting Tribe.
URL:https://redapplecoaching.ca/event/scripting-tribe-training-tie-down-questions/
LOCATION:Scripting Tribe\, Conference Line
CATEGORIES:Scripting Tribe
ATTACH;FMTTYPE=image/png:https://redapplecoaching.ca/wp-content/uploads/2020/11/Scripting-Tribe.png
ORGANIZER;CN="Red Apple Coaching and Consulting":MAILTO:admin@redapplecoaching.ca
END:VEVENT
BEGIN:VEVENT
DTSTART;TZID=UTC:20210726T120000
DTEND;TZID=UTC:20210726T123000
DTSTAMP:20260424T040745
CREATED:20210629T190043Z
LAST-MODIFIED:20210629T190043Z
UID:1356-1627300800-1627302600@redapplecoaching.ca
SUMMARY:Scripting Tribe Training: Asking for the Listing Appointment
DESCRIPTION:Topic: Asking for the Listing Appointment \nDetails and Sign up: https://www.yourgamechanger.ca/scripting-tribe \nAll the scripts you need for your real estate business\nJoin us every Monday at 12PM EST for 30 minutes of scripts! \nAre you ready to take the next step and invest in yourself? Start now\, and become a member of The Scripting Tribe.
URL:https://redapplecoaching.ca/event/scripting-tribe-training-asking-for-the-listing-appointment/
LOCATION:Scripting Tribe\, Conference Line
CATEGORIES:Scripting Tribe
ATTACH;FMTTYPE=image/png:https://redapplecoaching.ca/wp-content/uploads/2020/11/Scripting-Tribe.png
ORGANIZER;CN="Red Apple Coaching and Consulting":MAILTO:admin@redapplecoaching.ca
END:VEVENT
BEGIN:VEVENT
DTSTART;TZID=UTC:20210719T120000
DTEND;TZID=UTC:20210719T123000
DTSTAMP:20260424T040745
CREATED:20210629T185953Z
LAST-MODIFIED:20210629T185953Z
UID:1354-1626696000-1626697800@redapplecoaching.ca
SUMMARY:Scripting Tribe Training: ISA- Follow Up Calls to Leads
DESCRIPTION:Topic: ISA- Follow Up Calls to Leads \nDetails and Sign up: https://www.yourgamechanger.ca/scripting-tribe \nAll the scripts you need for your real estate business\nJoin us every Monday at 12PM EST for 30 minutes of scripts! \nAre you ready to take the next step and invest in yourself? Start now\, and become a member of The Scripting Tribe.
URL:https://redapplecoaching.ca/event/scripting-tribe-training-isa-follow-up-calls-to-leads/
LOCATION:Scripting Tribe\, Conference Line
CATEGORIES:Scripting Tribe
ATTACH;FMTTYPE=image/png:https://redapplecoaching.ca/wp-content/uploads/2020/11/Scripting-Tribe.png
ORGANIZER;CN="Red Apple Coaching and Consulting":MAILTO:admin@redapplecoaching.ca
END:VEVENT
BEGIN:VEVENT
DTSTART;TZID=UTC:20210712T120000
DTEND;TZID=UTC:20210712T123000
DTSTAMP:20260424T040745
CREATED:20210629T185846Z
LAST-MODIFIED:20210629T185846Z
UID:1352-1626091200-1626093000@redapplecoaching.ca
SUMMARY:Scripting Tribe Training: Pricing Objections - Top 3
DESCRIPTION:Topic: Pricing Objections – Top 3 \nDetails and Sign up: https://www.yourgamechanger.ca/scripting-tribe \nAll the scripts you need for your real estate business\nJoin us every Monday at 12PM EST for 30 minutes of scripts! \nAre you ready to take the next step and invest in yourself? Start now\, and become a member of The Scripting Tribe.
URL:https://redapplecoaching.ca/event/scripting-tribe-training-pricing-objections-top-3/
LOCATION:Scripting Tribe\, Conference Line
CATEGORIES:Scripting Tribe
ATTACH;FMTTYPE=image/png:https://redapplecoaching.ca/wp-content/uploads/2020/11/Scripting-Tribe.png
ORGANIZER;CN="Red Apple Coaching and Consulting":MAILTO:admin@redapplecoaching.ca
END:VEVENT
BEGIN:VEVENT
DTSTART;TZID=UTC:20210705T120000
DTEND;TZID=UTC:20210705T123000
DTSTAMP:20260424T040745
CREATED:20210629T185720Z
LAST-MODIFIED:20210629T185913Z
UID:1350-1625486400-1625488200@redapplecoaching.ca
SUMMARY:Scripting Tribe Training: Buyer Agency - Signing and Top 3 Objections
DESCRIPTION:Topic: Buyer Agency – Signing and Top 3 Objections \nDetails and Sign up: https://www.yourgamechanger.ca/scripting-tribe \nAll the scripts you need for your real estate business\nJoin us every Monday at 12PM EST for 30 minutes of scripts! \nAre you ready to take the next step and invest in yourself? Start now\, and become a member of The Scripting Tribe.
URL:https://redapplecoaching.ca/event/scripting-tribe-training-buyer-agency-signing-and-top-3-objections/
LOCATION:Scripting Tribe\, Conference Line
CATEGORIES:Scripting Tribe
ATTACH;FMTTYPE=image/png:https://redapplecoaching.ca/wp-content/uploads/2020/11/Scripting-Tribe.png
ORGANIZER;CN="Red Apple Coaching and Consulting":MAILTO:admin@redapplecoaching.ca
END:VEVENT
BEGIN:VEVENT
DTSTART;TZID=UTC:20210628T120000
DTEND;TZID=UTC:20210628T123000
DTSTAMP:20260424T040745
CREATED:20210603T000257Z
LAST-MODIFIED:20210603T000257Z
UID:1292-1624881600-1624883400@redapplecoaching.ca
SUMMARY:Scripting Tribe Training: Unknown Market Scripts for Buyers AND Sellers
DESCRIPTION:Topic: Unknown Market Scripts for Buyers AND Sellers \nDetails and Sign up: https://www.yourgamechanger.ca/scripting-tribe \nAll the scripts you need for your real estate business\nJoin us every Monday at 12PM EST for 30 minutes of scripts! \nAre you ready to take the next step and invest in yourself? Start now\, and become a member of The Scripting Tribe.
URL:https://redapplecoaching.ca/event/scripting-tribe-training-unknown-market-scripts-for-buyers-and-sellers/
LOCATION:Scripting Tribe\, Conference Line
CATEGORIES:Scripting Tribe
ATTACH;FMTTYPE=image/png:https://redapplecoaching.ca/wp-content/uploads/2020/11/Scripting-Tribe.png
ORGANIZER;CN="Red Apple Coaching and Consulting":MAILTO:admin@redapplecoaching.ca
END:VEVENT
BEGIN:VEVENT
DTSTART;TZID=UTC:20210621T120000
DTEND;TZID=UTC:20210621T123000
DTSTAMP:20260424T040745
CREATED:20210603T000206Z
LAST-MODIFIED:20210603T000206Z
UID:1290-1624276800-1624278600@redapplecoaching.ca
SUMMARY:Scripting Tribe Training: ISA Scripts for Past Client Referrals and reviews
DESCRIPTION:Topic: ISA Scripts for Past Client Referrals and reviews \nDetails and Sign up: https://www.yourgamechanger.ca/scripting-tribe \nAll the scripts you need for your real estate business\nJoin us every Monday at 12PM EST for 30 minutes of scripts! \nAre you ready to take the next step and invest in yourself? Start now\, and become a member of The Scripting Tribe.
URL:https://redapplecoaching.ca/event/scripting-tribe-training-isa-scripts-for-past-client-referrals-and-reviews/
LOCATION:Scripting Tribe\, Conference Line
CATEGORIES:Scripting Tribe
ATTACH;FMTTYPE=image/png:https://redapplecoaching.ca/wp-content/uploads/2020/11/Scripting-Tribe.png
ORGANIZER;CN="Red Apple Coaching and Consulting":MAILTO:admin@redapplecoaching.ca
END:VEVENT
BEGIN:VEVENT
DTSTART;TZID=UTC:20210614T120000
DTEND;TZID=UTC:20210614T123000
DTSTAMP:20260424T040745
CREATED:20210603T000109Z
LAST-MODIFIED:20210603T000109Z
UID:1288-1623672000-1623673800@redapplecoaching.ca
SUMMARY:Scripting Tribe Training: Mid Year Check-in Scripts
DESCRIPTION:Topic: Mid Year Check-in Scripts \nDetails and Sign up: https://www.yourgamechanger.ca/scripting-tribe \nAll the scripts you need for your real estate business\nJoin us every Monday at 12PM EST for 30 minutes of scripts! \nAre you ready to take the next step and invest in yourself? Start now\, and become a member of The Scripting Tribe.
URL:https://redapplecoaching.ca/event/scripting-tribe-training-mid-year-check-in-scripts/
LOCATION:Scripting Tribe\, Conference Line
CATEGORIES:Scripting Tribe
ATTACH;FMTTYPE=image/png:https://redapplecoaching.ca/wp-content/uploads/2020/11/Scripting-Tribe.png
ORGANIZER;CN="Red Apple Coaching and Consulting":MAILTO:admin@redapplecoaching.ca
END:VEVENT
BEGIN:VEVENT
DTSTART;TZID=UTC:20210607T120000
DTEND;TZID=UTC:20210607T123000
DTSTAMP:20260424T040745
CREATED:20210602T235937Z
LAST-MODIFIED:20210602T235937Z
UID:1286-1623067200-1623069000@redapplecoaching.ca
SUMMARY:Scripting Tribe Training: Door Knocking Post Lockdown Scripts - Finding Opportunities
DESCRIPTION:Topic: Door Knocking Post Lockdown Scripts – Finding Opportunities \nDetails and Sign up: https://www.yourgamechanger.ca/scripting-tribe \nAll the scripts you need for your real estate business\nJoin us every Monday at 12PM EST for 30 minutes of scripts! \nAre you ready to take the next step and invest in yourself? Start now\, and become a member of The Scripting Tribe.
URL:https://redapplecoaching.ca/event/scripting-tribe-training-door-knocking-post-lockdown-scripts-finding-opportunities/
LOCATION:Scripting Tribe\, Conference Line
CATEGORIES:Scripting Tribe
ATTACH;FMTTYPE=image/png:https://redapplecoaching.ca/wp-content/uploads/2020/11/Scripting-Tribe.png
ORGANIZER;CN="Red Apple Coaching and Consulting":MAILTO:admin@redapplecoaching.ca
END:VEVENT
BEGIN:VEVENT
DTSTART;TZID=UTC:20210531T120000
DTEND;TZID=UTC:20210531T123000
DTSTAMP:20260424T040745
CREATED:20210430T001918Z
LAST-MODIFIED:20210430T001918Z
UID:1254-1622462400-1622464200@redapplecoaching.ca
SUMMARY:Scripting Tribe Training: Recruiting Agent Scripts
DESCRIPTION:Topic: Recruiting Agent Scripts \nDetails and Sign up: https://www.yourgamechanger.ca/scripting-tribe \nAll the scripts you need for your real estate business\nJoin us every Monday at 12PM EST for 30 minutes of scripts! \nAre you ready to take the next step and invest in yourself? Start now\, and become a member of The Scripting Tribe.
URL:https://redapplecoaching.ca/event/scripting-tribe-training-recruiting-agent-scripts/
LOCATION:Scripting Tribe\, Conference Line
CATEGORIES:Scripting Tribe
ATTACH;FMTTYPE=image/png:https://redapplecoaching.ca/wp-content/uploads/2020/11/Scripting-Tribe.png
ORGANIZER;CN="Red Apple Coaching and Consulting":MAILTO:admin@redapplecoaching.ca
END:VEVENT
BEGIN:VEVENT
DTSTART;TZID=UTC:20210517T120000
DTEND;TZID=UTC:20210517T123000
DTSTAMP:20260424T040745
CREATED:20210430T001820Z
LAST-MODIFIED:20210430T001820Z
UID:1252-1621252800-1621254600@redapplecoaching.ca
SUMMARY:Scripting Tribe Training: The 3 Options Script and How to Use it
DESCRIPTION:Topic: The 3 Options Script and How to Use it \nDetails and Sign up: https://www.yourgamechanger.ca/scripting-tribe \nAll the scripts you need for your real estate business\nJoin us every Monday at 12PM EST for 30 minutes of scripts! \nAre you ready to take the next step and invest in yourself? Start now\, and become a member of The Scripting Tribe.
URL:https://redapplecoaching.ca/event/scripting-tribe-training-the-3-options-script-and-how-to-use-it/
LOCATION:Scripting Tribe\, Conference Line
CATEGORIES:Scripting Tribe
ATTACH;FMTTYPE=image/png:https://redapplecoaching.ca/wp-content/uploads/2020/11/Scripting-Tribe.png
ORGANIZER;CN="Red Apple Coaching and Consulting":MAILTO:admin@redapplecoaching.ca
END:VEVENT
BEGIN:VEVENT
DTSTART;TZID=UTC:20210510T120000
DTEND;TZID=UTC:20210510T123000
DTSTAMP:20260424T040745
CREATED:20210430T001719Z
LAST-MODIFIED:20210430T001719Z
UID:1250-1620648000-1620649800@redapplecoaching.ca
SUMMARY:Scripting Tribe Training: ISA Scripts
DESCRIPTION:Topic: ISA Scripts \nDetails and Sign up: https://www.yourgamechanger.ca/scripting-tribe \nAll the scripts you need for your real estate business\nJoin us every Monday at 12PM EST for 30 minutes of scripts! \nAre you ready to take the next step and invest in yourself? Start now\, and become a member of The Scripting Tribe.
URL:https://redapplecoaching.ca/event/scripting-tribe-training-isa-scripts/
LOCATION:Scripting Tribe\, Conference Line
CATEGORIES:Scripting Tribe
ATTACH;FMTTYPE=image/png:https://redapplecoaching.ca/wp-content/uploads/2020/11/Scripting-Tribe.png
ORGANIZER;CN="Red Apple Coaching and Consulting":MAILTO:admin@redapplecoaching.ca
END:VEVENT
BEGIN:VEVENT
DTSTART;TZID=UTC:20210503T120000
DTEND;TZID=UTC:20210503T123000
DTSTAMP:20260424T040745
CREATED:20210430T001557Z
LAST-MODIFIED:20210430T001557Z
UID:1248-1620043200-1620045000@redapplecoaching.ca
SUMMARY:Scripting Tribe Training: Building Your Farm Database Scripts
DESCRIPTION:Topic: Building Your Farm Database Scripts \nDetails and Sign up: https://www.yourgamechanger.ca/scripting-tribe \nAll the scripts you need for your real estate business\nJoin us every Monday at 12PM EST for 30 minutes of scripts! \nAre you ready to take the next step and invest in yourself? Start now\, and become a member of The Scripting Tribe.
URL:https://redapplecoaching.ca/event/scripting-tribe-training-building-your-farm-database-scripts/
LOCATION:Scripting Tribe\, Conference Line
CATEGORIES:Scripting Tribe
ATTACH;FMTTYPE=image/png:https://redapplecoaching.ca/wp-content/uploads/2020/11/Scripting-Tribe.png
ORGANIZER;CN="Red Apple Coaching and Consulting":MAILTO:admin@redapplecoaching.ca
END:VEVENT
BEGIN:VEVENT
DTSTART;TZID=UTC:20210426T120000
DTEND;TZID=UTC:20210426T123000
DTSTAMP:20260424T040745
CREATED:20210415T222135Z
LAST-MODIFIED:20210415T233500Z
UID:1180-1619438400-1619440200@redapplecoaching.ca
SUMMARY:Scripting Tribe Training: Everything FSBO
DESCRIPTION:Topic: Everything FSBO \nDetails and Sign up: https://www.yourgamechanger.ca/scripting-tribe \nAll the scripts you need for your real estate business\nJoin us every Monday at 12PM EST for 30 minutes of scripts! \nAre you ready to take the next step and invest in yourself? Start now\, and become a member of The Scripting Tribe.
URL:https://redapplecoaching.ca/event/scripting-tribe-training-everything-fsbo/
LOCATION:Scripting Tribe\, Conference Line
CATEGORIES:Scripting Tribe
ATTACH;FMTTYPE=image/png:https://redapplecoaching.ca/wp-content/uploads/2020/11/Scripting-Tribe.png
ORGANIZER;CN="Red Apple Coaching and Consulting":MAILTO:admin@redapplecoaching.ca
END:VEVENT
BEGIN:VEVENT
DTSTART;TZID=UTC:20210419T120000
DTEND;TZID=UTC:20210419T123000
DTSTAMP:20260424T040745
CREATED:20210415T221710Z
LAST-MODIFIED:20210415T233531Z
UID:1177-1618833600-1618835400@redapplecoaching.ca
SUMMARY:Scripting Tribe Training: Farming Scripts to Build Your
DESCRIPTION:Topic: Farming Scripts to Build Your \nDetails and Sign up: https://www.yourgamechanger.ca/scripting-tribe \nAll the scripts you need for your real estate business\nJoin us every Monday at 12PM EST for 30 minutes of scripts! \nAre you ready to take the next step and invest in yourself? Start now\, and become a member of The Scripting Tribe.
URL:https://redapplecoaching.ca/event/scripting-tribe-training/
LOCATION:Scripting Tribe\, Conference Line
CATEGORIES:Scripting Tribe
ATTACH;FMTTYPE=image/png:https://redapplecoaching.ca/wp-content/uploads/2020/11/Scripting-Tribe.png
ORGANIZER;CN="Red Apple Coaching and Consulting":MAILTO:admin@redapplecoaching.ca
END:VEVENT
END:VCALENDAR