BEGIN:VCALENDAR
VERSION:2.0
PRODID:-//Red Apple Coaching - ECPv6.15.20//NONSGML v1.0//EN
CALSCALE:GREGORIAN
METHOD:PUBLISH
X-ORIGINAL-URL:https://redapplecoaching.ca
X-WR-CALDESC:Events for Red Apple Coaching
REFRESH-INTERVAL;VALUE=DURATION:PT1H
X-Robots-Tag:noindex
X-PUBLISHED-TTL:PT1H
BEGIN:VTIMEZONE
TZID:UTC
BEGIN:STANDARD
TZOFFSETFROM:+0000
TZOFFSETTO:+0000
TZNAME:UTC
DTSTART:20200101T000000
END:STANDARD
END:VTIMEZONE
BEGIN:VEVENT
DTSTART;TZID=UTC:20210614T123000
DTEND;TZID=UTC:20210614T130000
DTSTAMP:20260424T132418
CREATED:20210507T200836Z
LAST-MODIFIED:20210611T220125Z
UID:1262-1623673800-1623675600@redapplecoaching.ca
SUMMARY:Game Changer Facebook Live: Branding vs Buying Leads
DESCRIPTION:Topic: Branding vs Buying Leads\n \nJoin Mary-Anne Gillespie for 30 minutes of Game Changer Facebook Live\, weekly on Mondays at 12:30 pm ET \nHappening at: https://www.facebook.com/redapplecoaching
URL:https://redapplecoaching.ca/event/game-changer-facebook-live-tips-on-creating-a-b2b-business-program/
LOCATION:Red Apple Coaching Facebook Page\, Red Apple Coaching Ltd.\, Ottawa\, Ontario\, K1E 1H4\, Canada
CATEGORIES:Game Changer Facebook Live
ATTACH;FMTTYPE=image/png:https://redapplecoaching.ca/wp-content/uploads/2021/05/FB-Live-2021.06.14-FB-Event-cover-1.png
ORGANIZER;CN="Red Apple Coaching and Consulting":MAILTO:admin@redapplecoaching.ca
END:VEVENT
BEGIN:VEVENT
DTSTART;TZID=UTC:20210607T123000
DTEND;TZID=UTC:20210607T130000
DTSTAMP:20260424T132418
CREATED:20210603T202843Z
LAST-MODIFIED:20210603T203048Z
UID:1295-1623069000-1623070800@redapplecoaching.ca
SUMMARY:Game Changer Facebook Live: What Ironman Taught me about Building a Business
DESCRIPTION:Topic: What Ironman Taught me about Building a Business\n \nJoin Mary-Anne Gillespie for 30 minutes of Game Changer Facebook Live\, weekly on Mondays at 12:30 pm ET \nHappening at: https://www.facebook.com/redapplecoaching
URL:https://redapplecoaching.ca/event/game-changer-facebook-live-what-ironman-taught-me-about-building-a-business/
LOCATION:Red Apple Coaching Facebook Page\, Red Apple Coaching Ltd.\, Ottawa\, Ontario\, K1E 1H4\, Canada
CATEGORIES:Game Changer Facebook Live
ATTACH;FMTTYPE=image/png:https://redapplecoaching.ca/wp-content/uploads/2021/06/FB-Live-2021.06.07-FB-Event-cover.png
ORGANIZER;CN="Red Apple Coaching and Consulting":MAILTO:admin@redapplecoaching.ca
END:VEVENT
BEGIN:VEVENT
DTSTART;TZID=UTC:20210531T123000
DTEND;TZID=UTC:20210531T130000
DTSTAMP:20260424T132418
CREATED:20210507T195856Z
LAST-MODIFIED:20210519T233256Z
UID:1259-1622464200-1622466000@redapplecoaching.ca
SUMMARY:Game Changer Facebook Live: ISA's Don't Accept Such Low Conversion
DESCRIPTION:Topic: ISA’s Don’t Accept Such Low Conversion\n \nJoin Mary-Anne Gillespie for 30 minutes of Game Changer Facebook Live\, weekly on Mondays at 12:30 pm ET \nHappening at: https://www.facebook.com/redapplecoaching
URL:https://redapplecoaching.ca/event/game-changer-facebook-live-isas-dont-accept-such-low-conversion/
LOCATION:Red Apple Coaching Facebook Page\, Red Apple Coaching Ltd.\, Ottawa\, Ontario\, K1E 1H4\, Canada
CATEGORIES:Game Changer Facebook Live
ATTACH;FMTTYPE=image/png:https://redapplecoaching.ca/wp-content/uploads/2021/05/FB-Live-2021.05.31-FB-Event-cover-2.png
ORGANIZER;CN="Red Apple Coaching and Consulting":MAILTO:admin@redapplecoaching.ca
END:VEVENT
BEGIN:VEVENT
DTSTART;TZID=UTC:20210503T123000
DTEND;TZID=UTC:20210503T130000
DTSTAMP:20260424T132418
CREATED:20210430T004736Z
LAST-MODIFIED:20210430T004736Z
UID:1256-1620045000-1620046800@redapplecoaching.ca
SUMMARY:Game Changer Facebook Live: Why Fear Holds us Back
DESCRIPTION:Topic: Why Fear Holds us Back\n \nJoin Mary-Anne Gillespie for 30 minutes of Game Changer Facebook Live\, weekly on Mondays at 12:30 pm ET \nHappening at: https://www.facebook.com/redapplecoaching
URL:https://redapplecoaching.ca/event/game-changer-facebook-live-why-fear-holds-us-back/
LOCATION:Red Apple Coaching Facebook Page\, Red Apple Coaching Ltd.\, Ottawa\, Ontario\, K1E 1H4\, Canada
CATEGORIES:Game Changer Facebook Live
ATTACH;FMTTYPE=image/png:https://redapplecoaching.ca/wp-content/uploads/2021/04/FB-Live-2021.05.3-FB-Event-cover.png
ORGANIZER;CN="Red Apple Coaching and Consulting":MAILTO:admin@redapplecoaching.ca
END:VEVENT
BEGIN:VEVENT
DTSTART;TZID=UTC:20210426T123000
DTEND;TZID=UTC:20210426T130000
DTSTAMP:20260424T132418
CREATED:20210423T210301Z
LAST-MODIFIED:20210423T210301Z
UID:1243-1619440200-1619442000@redapplecoaching.ca
SUMMARY:Game Changer Facebook Live: Multiple Offers Winning Through Relationships
DESCRIPTION:Topic: Multiple Offers Winning Through Relationships\n \nJoin Mary-Anne Gillespie for 30 minutes of Game Changer Facebook Live\, weekly on Mondays at 12:30 pm ET \nHappening at: https://www.facebook.com/redapplecoaching
URL:https://redapplecoaching.ca/event/game-changer-facebook-live-multiple-offers-winning-through-relationships/
LOCATION:Red Apple Coaching Facebook Page\, Red Apple Coaching Ltd.\, Ottawa\, Ontario\, K1E 1H4\, Canada
CATEGORIES:Game Changer Facebook Live
ATTACH;FMTTYPE=image/png:https://redapplecoaching.ca/wp-content/uploads/2021/04/FB-Live-2021.04.26-FB-Event-cover.png
ORGANIZER;CN="Red Apple Coaching and Consulting":MAILTO:admin@redapplecoaching.ca
END:VEVENT
BEGIN:VEVENT
DTSTART;TZID=UTC:20210419T123000
DTEND;TZID=UTC:20210419T130000
DTSTAMP:20260424T132418
CREATED:20210415T220303Z
LAST-MODIFIED:20210415T233522Z
UID:1168-1618835400-1618837200@redapplecoaching.ca
SUMMARY:Game Changer Facebook Live: Why is Conversion important in your sales business
DESCRIPTION:Topic: Why is Conversion important in your sales business \nJoin Mary-Anne Gillespie for 30 minutes of Game Changer Facebook Live\, weekly on Mondays at 12:30 pm ET \nHappening at: https://www.facebook.com/redapplecoaching
URL:https://redapplecoaching.ca/event/facebook-live-game-changer/
LOCATION:Red Apple Coaching Facebook Page\, Red Apple Coaching Ltd.\, Ottawa\, Ontario\, K1E 1H4\, Canada
CATEGORIES:Game Changer Facebook Live
ATTACH;FMTTYPE=image/png:https://redapplecoaching.ca/wp-content/uploads/2020/10/Game-Changer.png
END:VEVENT
END:VCALENDAR