BEGIN:VCALENDAR
VERSION:2.0
PRODID:-//Red Apple Coaching - ECPv6.15.20//NONSGML v1.0//EN
CALSCALE:GREGORIAN
METHOD:PUBLISH
X-ORIGINAL-URL:https://redapplecoaching.ca
X-WR-CALDESC:Events for Red Apple Coaching
REFRESH-INTERVAL;VALUE=DURATION:PT1H
X-Robots-Tag:noindex
X-PUBLISHED-TTL:PT1H
BEGIN:VTIMEZONE
TZID:America/Toronto
BEGIN:DAYLIGHT
TZOFFSETFROM:-0500
TZOFFSETTO:-0400
TZNAME:EDT
DTSTART:20220313T070000
END:DAYLIGHT
BEGIN:STANDARD
TZOFFSETFROM:-0400
TZOFFSETTO:-0500
TZNAME:EST
DTSTART:20221106T060000
END:STANDARD
BEGIN:DAYLIGHT
TZOFFSETFROM:-0500
TZOFFSETTO:-0400
TZNAME:EDT
DTSTART:20230312T070000
END:DAYLIGHT
BEGIN:STANDARD
TZOFFSETFROM:-0400
TZOFFSETTO:-0500
TZNAME:EST
DTSTART:20231105T060000
END:STANDARD
BEGIN:DAYLIGHT
TZOFFSETFROM:-0500
TZOFFSETTO:-0400
TZNAME:EDT
DTSTART:20240310T070000
END:DAYLIGHT
BEGIN:STANDARD
TZOFFSETFROM:-0400
TZOFFSETTO:-0500
TZNAME:EST
DTSTART:20241103T060000
END:STANDARD
END:VTIMEZONE
BEGIN:VEVENT
DTSTART;TZID=America/Toronto:20231109T090000
DTEND;TZID=America/Toronto:20231109T100000
DTSTAMP:20260425T233953
CREATED:20230713T110908Z
LAST-MODIFIED:20231106T174644Z
UID:1907-1699520400-1699524000@redapplecoaching.ca
SUMMARY:RolePlay Live : Open House Developing Rapport
DESCRIPTION:  \nJoin us for a FREE Live Coaching with the #1 Real Estate Business Coach\, Mary-Anne Gillespie this Monday on the Gamechanger U Facebook Group. \nWe will cover the 4 BEST ways to open up an open house with visitors . \nHow you see things is how your clients will see things.. Let’s see the OPPORTUNITY! \nThis 30 minute training session\, with new topics weekly\, will provide you with the best lessons\, insights\, and tips to: \n\nGROW your business\nBUILD your conversion\nINCREASE YOUR REVENUE\n\nTake part in the live session every Thursday at 9:00 am EST\, see you there!
URL:https://redapplecoaching.ca/event/game-changer-facebook-live-4-ways-to-explain-opportunity-to-clients/
LOCATION:Zoom
CATEGORIES:Game Changer Facebook Live
ORGANIZER;CN="Red Apple Coaching and Consulting":MAILTO:admin@redapplecoaching.ca
END:VEVENT
END:VCALENDAR