BEGIN:VCALENDAR
VERSION:2.0
PRODID:-//Red Apple Coaching - ECPv6.15.20//NONSGML v1.0//EN
CALSCALE:GREGORIAN
METHOD:PUBLISH
X-ORIGINAL-URL:https://redapplecoaching.ca
X-WR-CALDESC:Events for Red Apple Coaching
REFRESH-INTERVAL;VALUE=DURATION:PT1H
X-Robots-Tag:noindex
X-PUBLISHED-TTL:PT1H
BEGIN:VTIMEZONE
TZID:America/Toronto
BEGIN:DAYLIGHT
TZOFFSETFROM:-0500
TZOFFSETTO:-0400
TZNAME:EDT
DTSTART:20250309T070000
END:DAYLIGHT
BEGIN:STANDARD
TZOFFSETFROM:-0400
TZOFFSETTO:-0500
TZNAME:EST
DTSTART:20251102T060000
END:STANDARD
BEGIN:DAYLIGHT
TZOFFSETFROM:-0500
TZOFFSETTO:-0400
TZNAME:EDT
DTSTART:20260308T070000
END:DAYLIGHT
BEGIN:STANDARD
TZOFFSETFROM:-0400
TZOFFSETTO:-0500
TZNAME:EST
DTSTART:20261101T060000
END:STANDARD
BEGIN:DAYLIGHT
TZOFFSETFROM:-0500
TZOFFSETTO:-0400
TZNAME:EDT
DTSTART:20270314T070000
END:DAYLIGHT
BEGIN:STANDARD
TZOFFSETFROM:-0400
TZOFFSETTO:-0500
TZNAME:EST
DTSTART:20271107T060000
END:STANDARD
END:VTIMEZONE
BEGIN:VEVENT
DTSTART;VALUE=DATE:20260408
DTEND;VALUE=DATE:20260409
DTSTAMP:20260423T141606
CREATED:20260219T145119Z
LAST-MODIFIED:20260219T145119Z
UID:5646-1775606400-1775692799@redapplecoaching.ca
SUMMARY:Taking the Stage at Rock Capital Mortgage
DESCRIPTION:I’m excited to join Dwight Trafford and the Rock Capital Mortgage team as the keynote speaker for their upcoming 2026 event. \nThis will be a powerful opportunity to dive into leadership\, focus\, and execution—especially in a market that demands clarity\, discipline\, and adaptability. \n📅 April 8\, 2026📍 Rock Capital Mortgage Event \nMore details will be shared soon. \n— Mary-Anne GillespieCEO\, Red Apple Coaching
URL:https://redapplecoaching.ca/event/taking-the-stage-at-rock-capital-mortgage/
END:VEVENT
END:VCALENDAR