BEGIN:VCALENDAR
VERSION:2.0
PRODID:-//Red Apple Coaching - ECPv6.15.20//NONSGML v1.0//EN
CALSCALE:GREGORIAN
METHOD:PUBLISH
X-WR-CALNAME:Red Apple Coaching
X-ORIGINAL-URL:https://redapplecoaching.ca
X-WR-CALDESC:Events for Red Apple Coaching
REFRESH-INTERVAL;VALUE=DURATION:PT1H
X-Robots-Tag:noindex
X-PUBLISHED-TTL:PT1H
BEGIN:VTIMEZONE
TZID:America/Toronto
BEGIN:DAYLIGHT
TZOFFSETFROM:-0500
TZOFFSETTO:-0400
TZNAME:EDT
DTSTART:20250309T070000
END:DAYLIGHT
BEGIN:STANDARD
TZOFFSETFROM:-0400
TZOFFSETTO:-0500
TZNAME:EST
DTSTART:20251102T060000
END:STANDARD
BEGIN:DAYLIGHT
TZOFFSETFROM:-0500
TZOFFSETTO:-0400
TZNAME:EDT
DTSTART:20260308T070000
END:DAYLIGHT
BEGIN:STANDARD
TZOFFSETFROM:-0400
TZOFFSETTO:-0500
TZNAME:EST
DTSTART:20261101T060000
END:STANDARD
BEGIN:DAYLIGHT
TZOFFSETFROM:-0500
TZOFFSETTO:-0400
TZNAME:EDT
DTSTART:20270314T070000
END:DAYLIGHT
BEGIN:STANDARD
TZOFFSETFROM:-0400
TZOFFSETTO:-0500
TZNAME:EST
DTSTART:20271107T060000
END:STANDARD
END:VTIMEZONE
BEGIN:VEVENT
DTSTART;TZID=America/Toronto:20260217T080000
DTEND;TZID=America/Toronto:20260218T170000
DTSTAMP:20260423T170220
CREATED:20251229T180725Z
LAST-MODIFIED:20251229T180801Z
UID:5610-1771315200-1771434000@redapplecoaching.ca
SUMMARY:RE/MAX Canada
DESCRIPTION:RE/MAX brokers across BC are coming together. \nJoin us at Harrison Hot Springs for the RE/MAX Broker BC Event\, happening February 17–18\, 2026.Expect powerful conversations\, strategic planning\, and meaningful networking. \nDetails coming soon.
URL:https://redapplecoaching.ca/event/re-max-broker-bc-event/
END:VEVENT
BEGIN:VEVENT
DTSTART;TZID=America/Toronto:20260217T113000
DTEND;TZID=America/Toronto:20260218T123000
DTSTAMP:20260423T170220
CREATED:20260210T170610Z
LAST-MODIFIED:20260210T170610Z
UID:5641-1771327800-1771417800@redapplecoaching.ca
SUMMARY:RE/MAX Lower Mainland Broker Owner Retreat
DESCRIPTION:Join Kingsley Ma\, Area Vice President\, for the RE/MAX Lower Mainland Broker Owner Retreat—a two-day gathering designed for broker owners to connect\, align\, and plan strategically for the year ahead. \n🗓 Dates: February 17–18\, 2026⏰ Schedule:• Begins at 11:30 AM on February 17• Concludes at 12:30 PM on February 18📍 Location: Harrison Hot Springs \nThis retreat offers dedicated time for meaningful discussion\, leadership alignment\, and forward planning in a focused setting. \nMore details will be shared with attendees.
URL:https://redapplecoaching.ca/event/re-max-lower-mainland-broker-owner-retreat/
ATTACH;FMTTYPE=image/jpeg:https://redapplecoaching.ca/wp-content/uploads/2026/02/WhatsApp-Image-2026-02-09-at-12.09.10.jpeg
END:VEVENT
END:VCALENDAR