BEGIN:VCALENDAR
VERSION:2.0
PRODID:-//Red Apple Coaching - ECPv6.15.20//NONSGML v1.0//EN
CALSCALE:GREGORIAN
METHOD:PUBLISH
X-ORIGINAL-URL:https://redapplecoaching.ca
X-WR-CALDESC:Events for Red Apple Coaching
REFRESH-INTERVAL;VALUE=DURATION:PT1H
X-Robots-Tag:noindex
X-PUBLISHED-TTL:PT1H
BEGIN:VTIMEZONE
TZID:America/Toronto
BEGIN:DAYLIGHT
TZOFFSETFROM:-0500
TZOFFSETTO:-0400
TZNAME:EDT
DTSTART:20250309T070000
END:DAYLIGHT
BEGIN:STANDARD
TZOFFSETFROM:-0400
TZOFFSETTO:-0500
TZNAME:EST
DTSTART:20251102T060000
END:STANDARD
BEGIN:DAYLIGHT
TZOFFSETFROM:-0500
TZOFFSETTO:-0400
TZNAME:EDT
DTSTART:20260308T070000
END:DAYLIGHT
BEGIN:STANDARD
TZOFFSETFROM:-0400
TZOFFSETTO:-0500
TZNAME:EST
DTSTART:20261101T060000
END:STANDARD
BEGIN:DAYLIGHT
TZOFFSETFROM:-0500
TZOFFSETTO:-0400
TZNAME:EDT
DTSTART:20270314T070000
END:DAYLIGHT
BEGIN:STANDARD
TZOFFSETFROM:-0400
TZOFFSETTO:-0500
TZNAME:EST
DTSTART:20271107T060000
END:STANDARD
END:VTIMEZONE
BEGIN:VEVENT
DTSTART;TZID=America/Toronto:20260210T080000
DTEND;TZID=America/Toronto:20260211T170000
DTSTAMP:20260423T172357
CREATED:20251223T140229Z
LAST-MODIFIED:20260114T104141Z
UID:5577-1770710400-1770829200@redapplecoaching.ca
SUMMARY:Head Coach Summit & Tip Off Event
DESCRIPTION:Revel Realty Inc. Brokerage will be hosting a private\, leadership gathering this February in Niagara-on-the-Lake. \nThis exclusive two-day experience is designed for Head Coaches and leadership\, featuring Mary-Anne Gillespie in focused strategy and leadership sessions. \n🗓 February 10\, 2026Head Coach Summit⏰ 10:00 AM EST• 1.5-hour leadership session \n🗓 February 11\, 2026Tip Off Event⏰ 1:00 PM EST• 45–60 minute keynote session \n📍 Niagara-on-the-Lake \nThis is a closed\, internal event created to align leadership\, sharpen execution\, and set the standard for how we operate moving into 2026. \nMore details will be shared directly with invited attendees.
URL:https://redapplecoaching.ca/event/head-coach-summit-tip-off-event/
ATTACH;FMTTYPE=image/jpeg:https://redapplecoaching.ca/wp-content/uploads/2025/12/WhatsApp-Image-2026-01-13-at-18.12.12.jpeg
END:VEVENT
END:VCALENDAR