BEGIN:VCALENDAR
VERSION:2.0
PRODID:-//Red Apple Coaching - ECPv6.15.20//NONSGML v1.0//EN
CALSCALE:GREGORIAN
METHOD:PUBLISH
X-WR-CALNAME:Red Apple Coaching
X-ORIGINAL-URL:https://redapplecoaching.ca
X-WR-CALDESC:Events for Red Apple Coaching
REFRESH-INTERVAL;VALUE=DURATION:PT1H
X-Robots-Tag:noindex
X-PUBLISHED-TTL:PT1H
BEGIN:VTIMEZONE
TZID:America/Toronto
BEGIN:DAYLIGHT
TZOFFSETFROM:-0500
TZOFFSETTO:-0400
TZNAME:EDT
DTSTART:20250309T070000
END:DAYLIGHT
BEGIN:STANDARD
TZOFFSETFROM:-0400
TZOFFSETTO:-0500
TZNAME:EST
DTSTART:20251102T060000
END:STANDARD
BEGIN:DAYLIGHT
TZOFFSETFROM:-0500
TZOFFSETTO:-0400
TZNAME:EDT
DTSTART:20260308T070000
END:DAYLIGHT
BEGIN:STANDARD
TZOFFSETFROM:-0400
TZOFFSETTO:-0500
TZNAME:EST
DTSTART:20261101T060000
END:STANDARD
BEGIN:DAYLIGHT
TZOFFSETFROM:-0500
TZOFFSETTO:-0400
TZNAME:EDT
DTSTART:20270314T070000
END:DAYLIGHT
BEGIN:STANDARD
TZOFFSETFROM:-0400
TZOFFSETTO:-0500
TZNAME:EST
DTSTART:20271107T060000
END:STANDARD
END:VTIMEZONE
BEGIN:VEVENT
DTSTART;VALUE=DATE:20260207
DTEND;VALUE=DATE:20260208
DTSTAMP:20260423T170203
CREATED:20251223T144652Z
LAST-MODIFIED:20260114T105118Z
UID:5581-1770422400-1770508799@redapplecoaching.ca
SUMMARY:RE/MAX Metropolis AGM 2026
DESCRIPTION:The RE/MAX Metropolis AGM is happening this February—bringing our agents together for an important day of connection\, updates\, and alignment as we move forward into 2026. \nThis annual gathering is a key moment to reflect on where we’ve been\, celebrate progress\, and set the direction for what’s ahead as a brokerage. \n📅 Date: February 7\, 2026⏰ Time: To be announced📍 Venue: Hilton8500 Warden Ave.\, Markham\, ON L6G 1A5 \nFurther details\, including the full program and schedule\, will be shared soon.Save the date and plan to join us.
URL:https://redapplecoaching.ca/event/re-max-metropolis-agm-2026/
ATTACH;FMTTYPE=image/jpeg:https://redapplecoaching.ca/wp-content/uploads/2025/12/WhatsApp-Image-2026-01-13-at-18.12.41.jpeg
END:VEVENT
END:VCALENDAR