BEGIN:VCALENDAR
VERSION:2.0
PRODID:-//Red Apple Coaching - ECPv6.15.20//NONSGML v1.0//EN
CALSCALE:GREGORIAN
METHOD:PUBLISH
X-ORIGINAL-URL:https://redapplecoaching.ca
X-WR-CALDESC:Events for Red Apple Coaching
REFRESH-INTERVAL;VALUE=DURATION:PT1H
X-Robots-Tag:noindex
X-PUBLISHED-TTL:PT1H
BEGIN:VTIMEZONE
TZID:America/Toronto
BEGIN:DAYLIGHT
TZOFFSETFROM:-0500
TZOFFSETTO:-0400
TZNAME:EDT
DTSTART:20240310T070000
END:DAYLIGHT
BEGIN:STANDARD
TZOFFSETFROM:-0400
TZOFFSETTO:-0500
TZNAME:EST
DTSTART:20241103T060000
END:STANDARD
BEGIN:DAYLIGHT
TZOFFSETFROM:-0500
TZOFFSETTO:-0400
TZNAME:EDT
DTSTART:20250309T070000
END:DAYLIGHT
BEGIN:STANDARD
TZOFFSETFROM:-0400
TZOFFSETTO:-0500
TZNAME:EST
DTSTART:20251102T060000
END:STANDARD
BEGIN:DAYLIGHT
TZOFFSETFROM:-0500
TZOFFSETTO:-0400
TZNAME:EDT
DTSTART:20260308T070000
END:DAYLIGHT
BEGIN:STANDARD
TZOFFSETFROM:-0400
TZOFFSETTO:-0500
TZNAME:EST
DTSTART:20261101T060000
END:STANDARD
END:VTIMEZONE
BEGIN:VEVENT
DTSTART;TZID=America/Toronto:20251027T080000
DTEND;TZID=America/Toronto:20251028T170000
DTSTAMP:20260423T221044
CREATED:20251022T154935Z
LAST-MODIFIED:20251023T113912Z
UID:5530-1761552000-1761670800@redapplecoaching.ca
SUMMARY:🎯 Compass Midstate Success Summit
DESCRIPTION:We’re headed to Nashville for the Compass Midstate Success Summit\, happening on October 27–28\, 2025! 🤠✨ \nMary-Anne will be taking the stage to share powerful insights on leadership\, growth\, and what it takes to thrive in today’s real estate world. \nIt’s going to be two days of learning\, networking\, and high-level inspiration — stay tuned for more details!
URL:https://redapplecoaching.ca/event/%f0%9f%8e%af-compass-midstate-success-summit/
LOCATION:OMNI NASHVILLE
ATTACH;FMTTYPE=image/jpeg:https://redapplecoaching.ca/wp-content/uploads/2025/10/WhatsApp-Image-2025-10-21-at-13.44.07.jpeg
END:VEVENT
END:VCALENDAR