BEGIN:VCALENDAR
VERSION:2.0
PRODID:-//Red Apple Coaching - ECPv6.15.20//NONSGML v1.0//EN
CALSCALE:GREGORIAN
METHOD:PUBLISH
X-ORIGINAL-URL:https://redapplecoaching.ca
X-WR-CALDESC:Events for Red Apple Coaching
REFRESH-INTERVAL;VALUE=DURATION:PT1H
X-Robots-Tag:noindex
X-PUBLISHED-TTL:PT1H
BEGIN:VTIMEZONE
TZID:America/Toronto
BEGIN:DAYLIGHT
TZOFFSETFROM:-0500
TZOFFSETTO:-0400
TZNAME:EDT
DTSTART:20240310T070000
END:DAYLIGHT
BEGIN:STANDARD
TZOFFSETFROM:-0400
TZOFFSETTO:-0500
TZNAME:EST
DTSTART:20241103T060000
END:STANDARD
BEGIN:DAYLIGHT
TZOFFSETFROM:-0500
TZOFFSETTO:-0400
TZNAME:EDT
DTSTART:20250309T070000
END:DAYLIGHT
BEGIN:STANDARD
TZOFFSETFROM:-0400
TZOFFSETTO:-0500
TZNAME:EST
DTSTART:20251102T060000
END:STANDARD
BEGIN:DAYLIGHT
TZOFFSETFROM:-0500
TZOFFSETTO:-0400
TZNAME:EDT
DTSTART:20260308T070000
END:DAYLIGHT
BEGIN:STANDARD
TZOFFSETFROM:-0400
TZOFFSETTO:-0500
TZNAME:EST
DTSTART:20261101T060000
END:STANDARD
END:VTIMEZONE
BEGIN:VEVENT
DTSTART;TZID=America/Toronto:20251022T110000
DTEND;TZID=America/Toronto:20251022T120000
DTSTAMP:20260423T233819
CREATED:20250821T135513Z
LAST-MODIFIED:20250821T144110Z
UID:5497-1761130800-1761134400@redapplecoaching.ca
SUMMARY:🌟 Speaking Announcement 🌟
DESCRIPTION:Exciting news! Mary-Anne will be the Speaker with Forest Hill Yorkville on October 22\, 2025 at 11:00 AM in Toronto\, Ontario. \nIt’s going to be a powerful session full of insight and inspiration for real estate professionals. Stay tuned for highlights! 🚀 \n#MaryAnneSpeaks #ForestHillYorkville #TorontoEvent #KeynoteSpeaker
URL:https://redapplecoaching.ca/event/%f0%9f%8c%9f-speaking-announcement-%f0%9f%8c%9f/
ATTACH;FMTTYPE=image/png:https://redapplecoaching.ca/wp-content/uploads/2025/08/Event-Graphics-Jen-6.png
END:VEVENT
END:VCALENDAR