BEGIN:VCALENDAR
VERSION:2.0
PRODID:-//Red Apple Coaching - ECPv6.15.20//NONSGML v1.0//EN
CALSCALE:GREGORIAN
METHOD:PUBLISH
X-WR-CALNAME:Red Apple Coaching
X-ORIGINAL-URL:https://redapplecoaching.ca
X-WR-CALDESC:Events for Red Apple Coaching
REFRESH-INTERVAL;VALUE=DURATION:PT1H
X-Robots-Tag:noindex
X-PUBLISHED-TTL:PT1H
BEGIN:VTIMEZONE
TZID:America/Toronto
BEGIN:DAYLIGHT
TZOFFSETFROM:-0500
TZOFFSETTO:-0400
TZNAME:EDT
DTSTART:20240310T070000
END:DAYLIGHT
BEGIN:STANDARD
TZOFFSETFROM:-0400
TZOFFSETTO:-0500
TZNAME:EST
DTSTART:20241103T060000
END:STANDARD
BEGIN:DAYLIGHT
TZOFFSETFROM:-0500
TZOFFSETTO:-0400
TZNAME:EDT
DTSTART:20250309T070000
END:DAYLIGHT
BEGIN:STANDARD
TZOFFSETFROM:-0400
TZOFFSETTO:-0500
TZNAME:EST
DTSTART:20251102T060000
END:STANDARD
BEGIN:DAYLIGHT
TZOFFSETFROM:-0500
TZOFFSETTO:-0400
TZNAME:EDT
DTSTART:20260308T070000
END:DAYLIGHT
BEGIN:STANDARD
TZOFFSETFROM:-0400
TZOFFSETTO:-0500
TZNAME:EST
DTSTART:20261101T060000
END:STANDARD
END:VTIMEZONE
BEGIN:VEVENT
DTSTART;TZID=America/Toronto:20250916T100000
DTEND;TZID=America/Toronto:20250916T110000
DTSTAMP:20260424T011203
CREATED:20250819T124103Z
LAST-MODIFIED:20250819T124103Z
UID:5485-1758016800-1758020400@redapplecoaching.ca
SUMMARY:📢 Annual Fall Seminar
DESCRIPTION:We’re excited to share that Mary-Anne will be speaking at the Annual Fall Seminar with RE/MAX Crossroads Realty Inc.\, Brokerage! \n🗓 September 16\, 2025 | 10:00 AM (via Zoom)📌 Topic: “Price It Right or Sit Tight: Winning the Listing Game” \nMary-Anne will be sharing expert insights on how to master pricing strategies and win more listings in today’s competitive market. Stay tuned for highlights from this powerful session! \n#MaryAnneSpeaks #FallSeminar #PriceItRight #RealEstateSuccess #REMAXCrossroads
URL:https://redapplecoaching.ca/event/%f0%9f%93%a2-annual-fall-seminar/
ATTACH;FMTTYPE=image/png:https://redapplecoaching.ca/wp-content/uploads/2025/08/Event-Graphics-Jen.png
END:VEVENT
END:VCALENDAR