BEGIN:VCALENDAR
VERSION:2.0
PRODID:-//Red Apple Coaching - ECPv6.15.20//NONSGML v1.0//EN
CALSCALE:GREGORIAN
METHOD:PUBLISH
X-ORIGINAL-URL:https://redapplecoaching.ca
X-WR-CALDESC:Events for Red Apple Coaching
REFRESH-INTERVAL;VALUE=DURATION:PT1H
X-Robots-Tag:noindex
X-PUBLISHED-TTL:PT1H
BEGIN:VTIMEZONE
TZID:America/Toronto
BEGIN:DAYLIGHT
TZOFFSETFROM:-0500
TZOFFSETTO:-0400
TZNAME:EDT
DTSTART:20240310T070000
END:DAYLIGHT
BEGIN:STANDARD
TZOFFSETFROM:-0400
TZOFFSETTO:-0500
TZNAME:EST
DTSTART:20241103T060000
END:STANDARD
BEGIN:DAYLIGHT
TZOFFSETFROM:-0500
TZOFFSETTO:-0400
TZNAME:EDT
DTSTART:20250309T070000
END:DAYLIGHT
BEGIN:STANDARD
TZOFFSETFROM:-0400
TZOFFSETTO:-0500
TZNAME:EST
DTSTART:20251102T060000
END:STANDARD
BEGIN:DAYLIGHT
TZOFFSETFROM:-0500
TZOFFSETTO:-0400
TZNAME:EDT
DTSTART:20260308T070000
END:DAYLIGHT
BEGIN:STANDARD
TZOFFSETFROM:-0400
TZOFFSETTO:-0500
TZNAME:EST
DTSTART:20261101T060000
END:STANDARD
END:VTIMEZONE
BEGIN:VEVENT
DTSTART;TZID=America/Toronto:20250812T080000
DTEND;TZID=America/Toronto:20250812T170000
DTSTAMP:20260424T023347
CREATED:20250812T154927Z
LAST-MODIFIED:20250812T154927Z
UID:5482-1754985600-1755018000@redapplecoaching.ca
SUMMARY:🚀 Something exciting is coming!
DESCRIPTION:On September 11th\, 2025\, Revel Realty is hosting Growth Strategy — a day focused on big ideas to help you grow and succeed. 🌟\n\n\n\n\n\n\n\n\n\n\n\n\n\n\nStay tuned for more details… you won’t want to miss this!#GrowthStrategy #RevelRealty #SaveTheDate #LevelUp
URL:https://redapplecoaching.ca/event/%f0%9f%9a%80-something-exciting-is-coming/
ATTACH;FMTTYPE=image/jpeg:https://redapplecoaching.ca/wp-content/uploads/2025/08/Power-Session-Event-Revel.jpg
END:VEVENT
END:VCALENDAR