BEGIN:VCALENDAR
VERSION:2.0
PRODID:-//Red Apple Coaching - ECPv6.15.20//NONSGML v1.0//EN
CALSCALE:GREGORIAN
METHOD:PUBLISH
X-ORIGINAL-URL:https://redapplecoaching.ca
X-WR-CALDESC:Events for Red Apple Coaching
REFRESH-INTERVAL;VALUE=DURATION:PT1H
X-Robots-Tag:noindex
X-PUBLISHED-TTL:PT1H
BEGIN:VTIMEZONE
TZID:America/Toronto
BEGIN:DAYLIGHT
TZOFFSETFROM:-0500
TZOFFSETTO:-0400
TZNAME:EDT
DTSTART:20240310T070000
END:DAYLIGHT
BEGIN:STANDARD
TZOFFSETFROM:-0400
TZOFFSETTO:-0500
TZNAME:EST
DTSTART:20241103T060000
END:STANDARD
BEGIN:DAYLIGHT
TZOFFSETFROM:-0500
TZOFFSETTO:-0400
TZNAME:EDT
DTSTART:20250309T070000
END:DAYLIGHT
BEGIN:STANDARD
TZOFFSETFROM:-0400
TZOFFSETTO:-0500
TZNAME:EST
DTSTART:20251102T060000
END:STANDARD
BEGIN:DAYLIGHT
TZOFFSETFROM:-0500
TZOFFSETTO:-0400
TZNAME:EDT
DTSTART:20260308T070000
END:DAYLIGHT
BEGIN:STANDARD
TZOFFSETFROM:-0400
TZOFFSETTO:-0500
TZNAME:EST
DTSTART:20261101T060000
END:STANDARD
END:VTIMEZONE
BEGIN:VEVENT
DTSTART;TZID=America/Toronto:20250501T180000
DTEND;TZID=America/Toronto:20250501T210000
DTSTAMP:20260424T073616
CREATED:20250212T092915Z
LAST-MODIFIED:20250212T092915Z
UID:4750-1746122400-1746133200@redapplecoaching.ca
SUMMARY:Canadian Mortgage Awards
DESCRIPTION:🌟 Exciting News! 🌟 \nJoin us on May 1st\, 2025\, at the Canadian Mortgage Awards\, held at the Toronto Congress Centre! \nWe’re thrilled to announce that Mary-Anne will be part of the esteemed judging panel\, helping to celebrate excellence in the mortgage industry. Don’t miss this opportunity to witness outstanding talent and innovation! 🏆✨ \n#CMA2025 #MortgageExcellence #TorontoEvents
URL:https://redapplecoaching.ca/event/canadian-mortgage-awards/
ATTACH;FMTTYPE=image/jpeg:https://redapplecoaching.ca/wp-content/uploads/2025/02/RAC-2.0.jpg
END:VEVENT
END:VCALENDAR