BEGIN:VCALENDAR
VERSION:2.0
PRODID:-//Red Apple Coaching - ECPv6.15.20//NONSGML v1.0//EN
CALSCALE:GREGORIAN
METHOD:PUBLISH
X-WR-CALNAME:Red Apple Coaching
X-ORIGINAL-URL:https://redapplecoaching.ca
X-WR-CALDESC:Events for Red Apple Coaching
REFRESH-INTERVAL;VALUE=DURATION:PT1H
X-Robots-Tag:noindex
X-PUBLISHED-TTL:PT1H
BEGIN:VTIMEZONE
TZID:America/Toronto
BEGIN:DAYLIGHT
TZOFFSETFROM:-0500
TZOFFSETTO:-0400
TZNAME:EDT
DTSTART:20240310T070000
END:DAYLIGHT
BEGIN:STANDARD
TZOFFSETFROM:-0400
TZOFFSETTO:-0500
TZNAME:EST
DTSTART:20241103T060000
END:STANDARD
BEGIN:DAYLIGHT
TZOFFSETFROM:-0500
TZOFFSETTO:-0400
TZNAME:EDT
DTSTART:20250309T070000
END:DAYLIGHT
BEGIN:STANDARD
TZOFFSETFROM:-0400
TZOFFSETTO:-0500
TZNAME:EST
DTSTART:20251102T060000
END:STANDARD
BEGIN:DAYLIGHT
TZOFFSETFROM:-0500
TZOFFSETTO:-0400
TZNAME:EDT
DTSTART:20260308T070000
END:DAYLIGHT
BEGIN:STANDARD
TZOFFSETFROM:-0400
TZOFFSETTO:-0500
TZNAME:EST
DTSTART:20261101T060000
END:STANDARD
END:VTIMEZONE
BEGIN:VEVENT
DTSTART;TZID=America/Toronto:20250218T110000
DTEND;TZID=America/Toronto:20250218T120000
DTSTAMP:20260424T132536
CREATED:20250120T172508Z
LAST-MODIFIED:20250129T160209Z
UID:4609-1739876400-1739880000@redapplecoaching.ca
SUMMARY:RE/MAX Capital Diamond 2025 Kick Off Event
DESCRIPTION:🔥 RE/MAX Capital Diamond Realty\, I’m coming for YOU! 🔥 \nExcited to bring my signature presentation\, “2025: From Surviving to Thriving”\, to your brokerage! This isn’t just another training—it’s a real estate revolution designed to help you work smarter\, close more deals\, and dominate 2025. \n✅ Master the mindset shifts that top agents swear by \n✅ Leverage AI & automation to save time and scale \n✅ Build relationships that turn into repeat & referral business \nGet ready for powerful insights\, no fluff\, just real strategies that WORK. \nWant to bring this training to your brokerage? Message me!!
URL:https://redapplecoaching.ca/event/re-max-capital-diamond-2025-kick-off-event/
ATTACH;FMTTYPE=image/png:https://redapplecoaching.ca/wp-content/uploads/2025/01/RAC-2.0.png.png
END:VEVENT
END:VCALENDAR