BEGIN:VCALENDAR
VERSION:2.0
PRODID:-//Red Apple Coaching - ECPv6.15.20//NONSGML v1.0//EN
CALSCALE:GREGORIAN
METHOD:PUBLISH
X-ORIGINAL-URL:https://redapplecoaching.ca
X-WR-CALDESC:Events for Red Apple Coaching
REFRESH-INTERVAL;VALUE=DURATION:PT1H
X-Robots-Tag:noindex
X-PUBLISHED-TTL:PT1H
BEGIN:VTIMEZONE
TZID:America/Toronto
BEGIN:DAYLIGHT
TZOFFSETFROM:-0500
TZOFFSETTO:-0400
TZNAME:EDT
DTSTART:20240310T070000
END:DAYLIGHT
BEGIN:STANDARD
TZOFFSETFROM:-0400
TZOFFSETTO:-0500
TZNAME:EST
DTSTART:20241103T060000
END:STANDARD
BEGIN:DAYLIGHT
TZOFFSETFROM:-0500
TZOFFSETTO:-0400
TZNAME:EDT
DTSTART:20250309T070000
END:DAYLIGHT
BEGIN:STANDARD
TZOFFSETFROM:-0400
TZOFFSETTO:-0500
TZNAME:EST
DTSTART:20251102T060000
END:STANDARD
BEGIN:DAYLIGHT
TZOFFSETFROM:-0500
TZOFFSETTO:-0400
TZNAME:EDT
DTSTART:20260308T070000
END:DAYLIGHT
BEGIN:STANDARD
TZOFFSETFROM:-0400
TZOFFSETTO:-0500
TZNAME:EST
DTSTART:20261101T060000
END:STANDARD
END:VTIMEZONE
BEGIN:VEVENT
DTSTART;TZID=America/Toronto:20250124T120000
DTEND;TZID=America/Toronto:20250214T130000
DTSTAMP:20260424T132619
CREATED:20241216T105739Z
LAST-MODIFIED:20241216T105739Z
UID:4092-1737720000-1739538000@redapplecoaching.ca
SUMMARY:Gamechanger Bootcamp 2025
DESCRIPTION:Are you ready to push the boundaries and excel in YOUR Real Estate Business? 🔥 \nWe are so excited to introduce The Gamechanger Bootcamp – a transformative 4-week intensive lead generation program designed exclusively for realtors ready to break free from the ordinary and embrace extraordinary success! 🌟 \n📅 Mark your calendars: Starting January 24th\, 2024\, every Friday at 12:00 pm to 1:00 pm EST\, embark on a journey that will redefine your approach to real estate. \nYour breakthrough awaits – are you ready to seize it? 🚀 \nClick here to save your spot & to learn more about The Gamechanger Bootcamp: \nGameChanger Accountability Bootcamp (yourgamechanger.ca) \n#RealEstateCoaching #RealEstateGamechanger #CoachingProgram #RealtorRevolution #GamechangerBootcamp #RealtorTraining #BusinessCoaching #LeadGeneration #TimeManagement #RealtorSuccess
URL:https://redapplecoaching.ca/event/gamechanger-bootcamp-2025/
ATTACH;FMTTYPE=image/png:https://redapplecoaching.ca/wp-content/uploads/2024/12/GAMECHANGER-2025-2.png
END:VEVENT
BEGIN:VEVENT
DTSTART;TZID=America/Toronto:20250212T080000
DTEND;TZID=America/Toronto:20250213T170000
DTSTAMP:20260424T132619
CREATED:20241230T154852Z
LAST-MODIFIED:20241230T154852Z
UID:4264-1739347200-1739466000@redapplecoaching.ca
SUMMARY:BUZZ Revolution 2025: Lead with Confidence!
DESCRIPTION:This is THE event of 2025 you don’t want to miss—BUZZ Revolution 2025: Lead with Confidence!✨ \nI’m beyond excited to be speaking at Canada’s Premier Real Estate Conference\, joining the most influential voices in Canadian real estate to bring game-changing insights straight to YOU. \nMark your calendars: \n🗓 When: February 12 (7:30 AM–5:00 PM) & February 13 (8:00 AM–1:00 PM) \n🌟 Where: Mississauga Convention Centre \n🎟 Tickets: https://www.eventbrite.ca/e/the-buzz-conference-revolution-2025-lead-with-confidence-tickets-1050406322587?aff=oddtdtcreator \nThis is your chance to level up\, get inspired\, and learn how to lead with confidence in 2025. Let’s make this YOUR year to dominate! 💪 \nSee you there!
URL:https://redapplecoaching.ca/event/buzz-revolution-2025-lead-with-confidence/
ATTACH;FMTTYPE=image/png:https://redapplecoaching.ca/wp-content/uploads/2024/12/RACC-2.0-2024-12-19T162419.473.png
END:VEVENT
END:VCALENDAR