BEGIN:VCALENDAR
VERSION:2.0
PRODID:-//Red Apple Coaching - ECPv6.15.20//NONSGML v1.0//EN
CALSCALE:GREGORIAN
METHOD:PUBLISH
X-ORIGINAL-URL:https://redapplecoaching.ca
X-WR-CALDESC:Events for Red Apple Coaching
REFRESH-INTERVAL;VALUE=DURATION:PT1H
X-Robots-Tag:noindex
X-PUBLISHED-TTL:PT1H
BEGIN:VTIMEZONE
TZID:America/Toronto
BEGIN:DAYLIGHT
TZOFFSETFROM:-0500
TZOFFSETTO:-0400
TZNAME:EDT
DTSTART:20240310T070000
END:DAYLIGHT
BEGIN:STANDARD
TZOFFSETFROM:-0400
TZOFFSETTO:-0500
TZNAME:EST
DTSTART:20241103T060000
END:STANDARD
BEGIN:DAYLIGHT
TZOFFSETFROM:-0500
TZOFFSETTO:-0400
TZNAME:EDT
DTSTART:20250309T070000
END:DAYLIGHT
BEGIN:STANDARD
TZOFFSETFROM:-0400
TZOFFSETTO:-0500
TZNAME:EST
DTSTART:20251102T060000
END:STANDARD
BEGIN:DAYLIGHT
TZOFFSETFROM:-0500
TZOFFSETTO:-0400
TZNAME:EDT
DTSTART:20260308T070000
END:DAYLIGHT
BEGIN:STANDARD
TZOFFSETFROM:-0400
TZOFFSETTO:-0500
TZNAME:EST
DTSTART:20261101T060000
END:STANDARD
END:VTIMEZONE
BEGIN:VEVENT
DTSTART;TZID=America/Toronto:20250122T080000
DTEND;TZID=America/Toronto:20250122T170000
DTSTAMP:20260424T145541
CREATED:20241230T155036Z
LAST-MODIFIED:20241230T155036Z
UID:4267-1737532800-1737565200@redapplecoaching.ca
SUMMARY:Development Day 2025: Elevate Your Real Estate Career
DESCRIPTION:I’m so thrilled to announce that I’ll be speaking at Development Day 2025: Elevate Your Real Estate Career\, hosted by The Real Estate Collective! 🌟 \n📅 When: January 22\, 2025 8:00 AM – 5:00 PM EST \n📍 Where: Whistle Bear Golf Club \nThis full-day event is packed with game-changing sessions designed to help YOU excel in today’s dynamic market: \n🔑 New Developments & Housing Updates – Stay ahead of the curve with the latest trends in regional developments and the housing market. \n🌟 Realtor Growth & Development – Learn how to secure more listings\, elevate your personal brand\, and maximize your social media strategy. \n💡 Panel Discussion – Join an interactive discussion with seasoned experts to uncover the keys to sustained success in real estate. \nWhether you’re a seasoned pro or just starting your journey\, this is an event to gain actionable insights\, network with industry leaders\, and get the tools you need to dominate in 2025. \nSecure your spot today: https://www.eventbrite.com/e/development-day-2025-elevate-your-real-estate-career-tickets-1048210906037?aff=oddtdtcreator
URL:https://redapplecoaching.ca/event/development-day-2025-elevate-your-real-estate-career/
ATTACH;FMTTYPE=image/png:https://redapplecoaching.ca/wp-content/uploads/2024/12/RACC-2.0-2024-12-19T170541.425.png
END:VEVENT
BEGIN:VEVENT
DTSTART;TZID=America/Toronto:20250122T100000
DTEND;TZID=America/Toronto:20250122T110000
DTSTAMP:20260424T145541
CREATED:20241217T151440Z
LAST-MODIFIED:20241217T151440Z
UID:4111-1737540000-1737543600@redapplecoaching.ca
SUMMARY:Keller Williams Energy New Year Kick Off
DESCRIPTION:Start 2025 with ENERGY and INSPIRATION! ✨ \nI’m pumped to be joining the Keller Williams Energy New Year Kickoff on Wednesday\, January 22\, 2025 at 10:00 AM! \n📍 Location: 285 Taunton Rd E\, Oshawa\, ON \nPacked with value\, insights\, and strategies to supercharge your success\, you’ll leave motivated and ready to dominate 2025!!
URL:https://redapplecoaching.ca/event/keller-williams-energy-new-year-kick-off/
ATTACH;FMTTYPE=image/png:https://redapplecoaching.ca/wp-content/uploads/2024/12/RACC-2.0-100.png
END:VEVENT
END:VCALENDAR