BEGIN:VCALENDAR
VERSION:2.0
PRODID:-//Red Apple Coaching - ECPv6.15.20//NONSGML v1.0//EN
CALSCALE:GREGORIAN
METHOD:PUBLISH
X-ORIGINAL-URL:https://redapplecoaching.ca
X-WR-CALDESC:Events for Red Apple Coaching
REFRESH-INTERVAL;VALUE=DURATION:PT1H
X-Robots-Tag:noindex
X-PUBLISHED-TTL:PT1H
BEGIN:VTIMEZONE
TZID:America/Toronto
BEGIN:DAYLIGHT
TZOFFSETFROM:-0500
TZOFFSETTO:-0400
TZNAME:EDT
DTSTART:20230312T070000
END:DAYLIGHT
BEGIN:STANDARD
TZOFFSETFROM:-0400
TZOFFSETTO:-0500
TZNAME:EST
DTSTART:20231105T060000
END:STANDARD
BEGIN:DAYLIGHT
TZOFFSETFROM:-0500
TZOFFSETTO:-0400
TZNAME:EDT
DTSTART:20240310T070000
END:DAYLIGHT
BEGIN:STANDARD
TZOFFSETFROM:-0400
TZOFFSETTO:-0500
TZNAME:EST
DTSTART:20241103T060000
END:STANDARD
BEGIN:DAYLIGHT
TZOFFSETFROM:-0500
TZOFFSETTO:-0400
TZNAME:EDT
DTSTART:20250309T070000
END:DAYLIGHT
BEGIN:STANDARD
TZOFFSETFROM:-0400
TZOFFSETTO:-0500
TZNAME:EST
DTSTART:20251102T060000
END:STANDARD
END:VTIMEZONE
BEGIN:VEVENT
DTSTART;TZID=America/Toronto:20241206T100000
DTEND;TZID=America/Toronto:20241206T130000
DTSTAMP:20260424T164804
CREATED:20240823T140343Z
LAST-MODIFIED:20241022T161826Z
UID:3675-1733479200-1733490000@redapplecoaching.ca
SUMMARY:Business Planning Clinic 2025 Day 1
DESCRIPTION:Unlock Your Business Potential: Join Our Comprehensive Business Planning Workshop!\n\nAre you ready to turn your business idea into a thriving success? Our Business Planning Workshop is designed to equip you with the essential tools\, strategies\, and insights needed to build a solid foundation for your business. Whether you’re a budding entrepreneur or looking to refine an existing business plan\, this workshop will guide you through every step of the process.\n\nIn this interactive session\, you’ll learn how to:\n\nDefine your business vision and mission\nDevelop a strategic plan to achieve your goals\nUnderstand market trends and competitive landscapes\nCreate detailed financial projections and budgets\n\nMary-Anne will provide hands-on support\, ensuring you leave with a clear\, actionable plan tailored to your business needs. Plus\, you’ll have the opportunity to network with like-minded entrepreneurs and gain valuable feedback.\n\nDon’t miss this opportunity to set your business up for success. Register today and take the first step towards achieving your business dreams!
URL:https://redapplecoaching.ca/event/business-planning-clinic-2025/
ATTACH;FMTTYPE=image/jpeg:https://redapplecoaching.ca/wp-content/uploads/2024/08/RACC-7.jpg
END:VEVENT
END:VCALENDAR