BEGIN:VCALENDAR
VERSION:2.0
PRODID:-//Red Apple Coaching - ECPv6.15.20//NONSGML v1.0//EN
CALSCALE:GREGORIAN
METHOD:PUBLISH
X-WR-CALNAME:Red Apple Coaching
X-ORIGINAL-URL:https://redapplecoaching.ca
X-WR-CALDESC:Events for Red Apple Coaching
REFRESH-INTERVAL;VALUE=DURATION:PT1H
X-Robots-Tag:noindex
X-PUBLISHED-TTL:PT1H
BEGIN:VTIMEZONE
TZID:America/Toronto
BEGIN:DAYLIGHT
TZOFFSETFROM:-0500
TZOFFSETTO:-0400
TZNAME:EDT
DTSTART:20230312T070000
END:DAYLIGHT
BEGIN:STANDARD
TZOFFSETFROM:-0400
TZOFFSETTO:-0500
TZNAME:EST
DTSTART:20231105T060000
END:STANDARD
BEGIN:DAYLIGHT
TZOFFSETFROM:-0500
TZOFFSETTO:-0400
TZNAME:EDT
DTSTART:20240310T070000
END:DAYLIGHT
BEGIN:STANDARD
TZOFFSETFROM:-0400
TZOFFSETTO:-0500
TZNAME:EST
DTSTART:20241103T060000
END:STANDARD
BEGIN:DAYLIGHT
TZOFFSETFROM:-0500
TZOFFSETTO:-0400
TZNAME:EDT
DTSTART:20250309T070000
END:DAYLIGHT
BEGIN:STANDARD
TZOFFSETFROM:-0400
TZOFFSETTO:-0500
TZNAME:EST
DTSTART:20251102T060000
END:STANDARD
END:VTIMEZONE
BEGIN:VEVENT
DTSTART;TZID=America/Toronto:20241129T144500
DTEND;TZID=America/Toronto:20241129T154500
DTSTAMP:20260424T164741
CREATED:20241121T094419Z
LAST-MODIFIED:20241125T025723Z
UID:4020-1732891500-1732895100@redapplecoaching.ca
SUMMARY:Podcast with Mark Faris Experience
DESCRIPTION:🎙️ Tune in! \nJoin Mark Faris as he hosts an inspiring podcast featuring Mary-Anne Gillespie! \n📅 Date: Friday\, November 29th\n⏰ Time: 2:45 PM (GMT-05:00) Toronto \nDon’t miss this conversation full of insights and inspiration. Stay tuned! \n#PodcastAlert #MarkFaris #MaryAnneGillespie #Inspiration
URL:https://redapplecoaching.ca/event/podcast-with-mike-faris-experience/
ATTACH;FMTTYPE=image/png:https://redapplecoaching.ca/wp-content/uploads/2024/11/RACC-2.0-47.png
END:VEVENT
END:VCALENDAR