BEGIN:VCALENDAR
VERSION:2.0
PRODID:-//Red Apple Coaching - ECPv6.15.20//NONSGML v1.0//EN
CALSCALE:GREGORIAN
METHOD:PUBLISH
X-WR-CALNAME:Red Apple Coaching
X-ORIGINAL-URL:https://redapplecoaching.ca
X-WR-CALDESC:Events for Red Apple Coaching
REFRESH-INTERVAL;VALUE=DURATION:PT1H
X-Robots-Tag:noindex
X-PUBLISHED-TTL:PT1H
BEGIN:VTIMEZONE
TZID:America/Toronto
BEGIN:DAYLIGHT
TZOFFSETFROM:-0500
TZOFFSETTO:-0400
TZNAME:EDT
DTSTART:20230312T070000
END:DAYLIGHT
BEGIN:STANDARD
TZOFFSETFROM:-0400
TZOFFSETTO:-0500
TZNAME:EST
DTSTART:20231105T060000
END:STANDARD
BEGIN:DAYLIGHT
TZOFFSETFROM:-0500
TZOFFSETTO:-0400
TZNAME:EDT
DTSTART:20240310T070000
END:DAYLIGHT
BEGIN:STANDARD
TZOFFSETFROM:-0400
TZOFFSETTO:-0500
TZNAME:EST
DTSTART:20241103T060000
END:STANDARD
BEGIN:DAYLIGHT
TZOFFSETFROM:-0500
TZOFFSETTO:-0400
TZNAME:EDT
DTSTART:20250309T070000
END:DAYLIGHT
BEGIN:STANDARD
TZOFFSETFROM:-0400
TZOFFSETTO:-0500
TZNAME:EST
DTSTART:20251102T060000
END:STANDARD
END:VTIMEZONE
BEGIN:VEVENT
DTSTART;TZID=America/Toronto:20241128T100000
DTEND;TZID=America/Toronto:20241128T130000
DTSTAMP:20260424T164741
CREATED:20241108T111805Z
LAST-MODIFIED:20241108T111805Z
UID:3989-1732788000-1732798800@redapplecoaching.ca
SUMMARY:New Purveyors 2024
DESCRIPTION:🌟 Join us for the New Purveyors Event! 🌟\n\n\n\n\n\n\n\n\n\n\n\n📅 Date: November 28\, 2024\n⏰ Time: 10 AM – 1 PM (45-min session)\n📍 Location: Ottawa\n🎤 Speaker: Mary-Anne \nGet ready for an exciting session on End-of-Year 2025 Planning with Mary-Anne! She’ll share her insights and participate in the discussion to help you plan for success in the coming year. Don’t miss out! \n#NewPurveyors #EndOfYearPlanning #OttawaEvent #MaryAnne #Success2025
URL:https://redapplecoaching.ca/event/new-purveyors-2024/
ATTACH;FMTTYPE=image/png:https://redapplecoaching.ca/wp-content/uploads/2024/11/RACC-2.0-25.png
END:VEVENT
END:VCALENDAR