BEGIN:VCALENDAR
VERSION:2.0
PRODID:-//Red Apple Coaching - ECPv6.15.20//NONSGML v1.0//EN
CALSCALE:GREGORIAN
METHOD:PUBLISH
X-ORIGINAL-URL:https://redapplecoaching.ca
X-WR-CALDESC:Events for Red Apple Coaching
REFRESH-INTERVAL;VALUE=DURATION:PT1H
X-Robots-Tag:noindex
X-PUBLISHED-TTL:PT1H
BEGIN:VTIMEZONE
TZID:America/Toronto
BEGIN:DAYLIGHT
TZOFFSETFROM:-0500
TZOFFSETTO:-0400
TZNAME:EDT
DTSTART:20230312T070000
END:DAYLIGHT
BEGIN:STANDARD
TZOFFSETFROM:-0400
TZOFFSETTO:-0500
TZNAME:EST
DTSTART:20231105T060000
END:STANDARD
BEGIN:DAYLIGHT
TZOFFSETFROM:-0500
TZOFFSETTO:-0400
TZNAME:EDT
DTSTART:20240310T070000
END:DAYLIGHT
BEGIN:STANDARD
TZOFFSETFROM:-0400
TZOFFSETTO:-0500
TZNAME:EST
DTSTART:20241103T060000
END:STANDARD
BEGIN:DAYLIGHT
TZOFFSETFROM:-0500
TZOFFSETTO:-0400
TZNAME:EDT
DTSTART:20250309T070000
END:DAYLIGHT
BEGIN:STANDARD
TZOFFSETFROM:-0400
TZOFFSETTO:-0500
TZNAME:EST
DTSTART:20251102T060000
END:STANDARD
END:VTIMEZONE
BEGIN:VEVENT
DTSTART;TZID=America/Toronto:20241119T110000
DTEND;TZID=America/Toronto:20241119T120000
DTSTAMP:20260424T182311
CREATED:20241031T105136Z
LAST-MODIFIED:20241031T105547Z
UID:3984-1732014000-1732017600@redapplecoaching.ca
SUMMARY:C21 HERITAGE- CENTURION TALK
DESCRIPTION:Exciting news! Mary-Anne will be speaking at the C21 Heritage – Centurion Talk on November 19th at 11:00 AM\nWatch out for more details!\n#C21Heritage #CenturionTalk #MayrAnneSpeaks
URL:https://redapplecoaching.ca/event/c21-heritage-centurion-talk/
ATTACH;FMTTYPE=image/png:https://redapplecoaching.ca/wp-content/uploads/2024/10/RACC-2.0-14.png
END:VEVENT
END:VCALENDAR