BEGIN:VCALENDAR
VERSION:2.0
PRODID:-//Red Apple Coaching - ECPv6.15.20//NONSGML v1.0//EN
CALSCALE:GREGORIAN
METHOD:PUBLISH
X-ORIGINAL-URL:https://redapplecoaching.ca
X-WR-CALDESC:Events for Red Apple Coaching
REFRESH-INTERVAL;VALUE=DURATION:PT1H
X-Robots-Tag:noindex
X-PUBLISHED-TTL:PT1H
BEGIN:VTIMEZONE
TZID:America/Toronto
BEGIN:DAYLIGHT
TZOFFSETFROM:-0500
TZOFFSETTO:-0400
TZNAME:EDT
DTSTART:20230312T070000
END:DAYLIGHT
BEGIN:STANDARD
TZOFFSETFROM:-0400
TZOFFSETTO:-0500
TZNAME:EST
DTSTART:20231105T060000
END:STANDARD
BEGIN:DAYLIGHT
TZOFFSETFROM:-0500
TZOFFSETTO:-0400
TZNAME:EDT
DTSTART:20240310T070000
END:DAYLIGHT
BEGIN:STANDARD
TZOFFSETFROM:-0400
TZOFFSETTO:-0500
TZNAME:EST
DTSTART:20241103T060000
END:STANDARD
BEGIN:DAYLIGHT
TZOFFSETFROM:-0500
TZOFFSETTO:-0400
TZNAME:EDT
DTSTART:20250309T070000
END:DAYLIGHT
BEGIN:STANDARD
TZOFFSETFROM:-0400
TZOFFSETTO:-0500
TZNAME:EST
DTSTART:20251102T060000
END:STANDARD
END:VTIMEZONE
BEGIN:VEVENT
DTSTART;TZID=America/Toronto:20241112T080000
DTEND;TZID=America/Toronto:20241114T170000
DTSTAMP:20260424T182311
CREATED:20240822T134324Z
LAST-MODIFIED:20240822T134324Z
UID:3669-1731398400-1731603600@redapplecoaching.ca
SUMMARY:Compass Retreat
DESCRIPTION:📅 Join Us at the COMPASS RETREAT! 📅 \nHappening from November 12-14\, 2024\, in Charleston\, SC! 🌟 \nTopic: Embrace Challenge to Achieve Extraordinary Success \nSessions: Two 30-minute sessions packed with insights to elevate your career. \nGet ready to be inspired and motivated—stay tuned for venue details! \n#CompassRetreat2024 #CharlestonEvents #ProfessionalGrowth #ExtraordinarySuccess
URL:https://redapplecoaching.ca/event/compass-retreat/
ATTACH;FMTTYPE=image/png:https://redapplecoaching.ca/wp-content/uploads/2024/08/RACC-3.png
END:VEVENT
END:VCALENDAR