BEGIN:VCALENDAR
VERSION:2.0
PRODID:-//Red Apple Coaching - ECPv6.15.20//NONSGML v1.0//EN
CALSCALE:GREGORIAN
METHOD:PUBLISH
X-ORIGINAL-URL:https://redapplecoaching.ca
X-WR-CALDESC:Events for Red Apple Coaching
REFRESH-INTERVAL;VALUE=DURATION:PT1H
X-Robots-Tag:noindex
X-PUBLISHED-TTL:PT1H
BEGIN:VTIMEZONE
TZID:America/Toronto
BEGIN:DAYLIGHT
TZOFFSETFROM:-0500
TZOFFSETTO:-0400
TZNAME:EDT
DTSTART:20230312T070000
END:DAYLIGHT
BEGIN:STANDARD
TZOFFSETFROM:-0400
TZOFFSETTO:-0500
TZNAME:EST
DTSTART:20231105T060000
END:STANDARD
BEGIN:DAYLIGHT
TZOFFSETFROM:-0500
TZOFFSETTO:-0400
TZNAME:EDT
DTSTART:20240310T070000
END:DAYLIGHT
BEGIN:STANDARD
TZOFFSETFROM:-0400
TZOFFSETTO:-0500
TZNAME:EST
DTSTART:20241103T060000
END:STANDARD
BEGIN:DAYLIGHT
TZOFFSETFROM:-0500
TZOFFSETTO:-0400
TZNAME:EDT
DTSTART:20250309T070000
END:DAYLIGHT
BEGIN:STANDARD
TZOFFSETFROM:-0400
TZOFFSETTO:-0500
TZNAME:EST
DTSTART:20251102T060000
END:STANDARD
END:VTIMEZONE
BEGIN:VEVENT
DTSTART;VALUE=DATE:20241009
DTEND;VALUE=DATE:20241010
DTSTAMP:20260424T201237
CREATED:20240912T140013Z
LAST-MODIFIED:20240920T150910Z
UID:3682-1728432000-1728518399@redapplecoaching.ca
SUMMARY:Sales Meeting with RE/MAX Professionals
DESCRIPTION:Beyond excited to be presenting for Remax Professionals Inc. on 𝐒𝐭𝐫𝐚𝐭𝐞𝐠𝐢𝐜 𝐄𝐱𝐜𝐞𝐥𝐥𝐞𝐧𝐜𝐞: 𝐔𝐧𝐥𝐨𝐜𝐤𝐢𝐧𝐠 𝐭𝐡𝐞 𝐍𝐞𝐱𝐭 𝐋𝐞𝐯𝐞𝐥 𝐨𝐟 𝐑𝐞𝐚𝐥 𝐄𝐬𝐭𝐚𝐭𝐞 𝐒𝐚𝐥𝐞𝐬!  Get ready to level up your game and crush your goals! “\n\n“So excited to be sharing at Remax Professionals Inc.! Let’s dive into 𝐒𝐭𝐫𝐚𝐭𝐞𝐠𝐢𝐜 𝐄𝐱𝐜𝐞𝐥𝐥𝐞𝐧𝐜𝐞: 𝐔𝐧𝐥𝐨𝐜𝐤𝐢𝐧𝐠 𝐭𝐡𝐞 𝐍𝐞𝐱𝐭 𝐋𝐞𝐯𝐞𝐥 𝐨𝐟 𝐑𝐞𝐚𝐥 𝐄𝐬𝐭𝐚𝐭𝐞 𝐒𝐚𝐥𝐞𝐬 together!  Who’s ready to take their sales to new heights? “\n\n“Can’t wait to present for Remax Professionals Inc.! I’ll be talking about 𝐒𝐭𝐫𝐚𝐭𝐞𝐠𝐢𝐜 𝐄𝐱𝐜𝐞𝐥𝐥𝐞𝐧𝐜𝐞: 𝐔𝐧𝐥𝐨𝐜𝐤𝐢𝐧𝐠 𝐭𝐡𝐞 𝐍𝐞𝐱𝐭 𝐋𝐞𝐯𝐞𝐥 𝐨𝐟 𝐑𝐞𝐚𝐥 𝐄𝐬𝐭𝐚𝐭𝐞 𝐒𝐚𝐥𝐞𝐬!  Let’s make it happen! “\n\n“ Honoured to be speaking for Remax Professionals Inc. on 𝐒𝐭𝐫𝐚𝐭𝐞𝐠𝐢𝐜 𝐄𝐱𝐜𝐞𝐥𝐥𝐞𝐧𝐜𝐞!  We’ll explore strategies to elevate your real estate sales and maximize results!  Who’s ready for the next level? “
URL:https://redapplecoaching.ca/event/sales-meeting-with-re-max-professionals/
ATTACH;FMTTYPE=image/png:https://redapplecoaching.ca/wp-content/uploads/2024/09/RACC-15.png
END:VEVENT
END:VCALENDAR