BEGIN:VCALENDAR
VERSION:2.0
PRODID:-//Red Apple Coaching - ECPv6.15.20//NONSGML v1.0//EN
CALSCALE:GREGORIAN
METHOD:PUBLISH
X-WR-CALNAME:Red Apple Coaching
X-ORIGINAL-URL:https://redapplecoaching.ca
X-WR-CALDESC:Events for Red Apple Coaching
REFRESH-INTERVAL;VALUE=DURATION:PT1H
X-Robots-Tag:noindex
X-PUBLISHED-TTL:PT1H
BEGIN:VTIMEZONE
TZID:UTC
BEGIN:STANDARD
TZOFFSETFROM:+0000
TZOFFSETTO:+0000
TZNAME:UTC
DTSTART:20230101T000000
END:STANDARD
END:VTIMEZONE
BEGIN:VEVENT
DTSTART;VALUE=DATE:20240917
DTEND;VALUE=DATE:20240918
DTSTAMP:20260425T205733
CREATED:20240723T235233Z
LAST-MODIFIED:20240815T124138Z
UID:3641-1726531200-1726617599@redapplecoaching.ca
SUMMARY:RE/MAX Activate Conference 2024
DESCRIPTION:📅 Mark Your Calendars! 📅 \nJoin us at the RE/MAX Activate Conference on September 17\, 2024! 🎉 \nExcited to discuss “Building a Training Culture Within Your Office to Retain Agents.” Don’t miss this chance to learn how to enhance your office environment and boost agent retention. \nLet’s elevate our training culture together! See you there! 🚀 \nRegister here: RE/MAX Activate Conference 2024 – Red Apple Coaching \n#REMAXActivate #RealEstate #TrainingCulture #AgentRetention #Conference2024
URL:https://redapplecoaching.ca/event/re-max-activate-conference-2024/
ATTACH;FMTTYPE=image/png:https://redapplecoaching.ca/wp-content/uploads/2024/07/RACC-4.png
END:VEVENT
END:VCALENDAR